Workbook

Sheet Instructions
B2: Instructions
A4: 1 | B4: Open ImageJ.
A5: 2 | B5: Open the image you would like to use for porosity measurement.
B7: Crop region of interest and spit into color channels
A8: 3 | B8: Select Image > Type > RGB Color (If not already selected).
A9: 4 | B9: Select Image > Color > Split Channels.
A10: 5 | B10: Choose the best channel (For SEM images, the channels will all look the same. However for optical microscope images, the channels will look different. Choose the channel with the most contrast and highest quality. Some may look grainy or dark; avoid using these.)
A11: 6 | B11: Use the rectangular selection tool to select the largest rectangular section of the coating possible, without including either interface. Crop this selection by selecting Image > Crop, or by pressing “ctrl+shift+x”.
B13: Threshold Voids & Perform Binary Open operation
A14: 7 | B14: Use the threshold tool to select the areas of porosity. Select Image > Adjust > Threshold, or press “ctrl+shift+t”.
A15: 8 | B15: Drag both slider bars on the threshold menu to the far left to set them both to zero.
A16: 9 | B16: Slowly increase the value on the lower slider. The darkest regions of the image will become red. Continue to increase this value until all of the dark porosity spots are red.
A17: 10 | B17: Select “Apply” on the threshold menu to convert the image to a binary image of the porosity. Make sure that the selection is B&W and has a black background
A18: 11 | B18: Select Process > Binary > Open. This will remove the small single pixel artifacts that arise, as well as removing lines.
B20: Split image into sub areas
A21: 12 | B21: Select Image > Stacks > Tools > Monage to Stack
A22: 13 | B22: Input 5 rows & 5 columns, and zero cell width. This will split the image into 25 sub images
A23: 14 | B23: Analyze at least 20 separate fields of view either in a random pattern or continguously being careful not to overlap a previous field.
A24: 15 | B24: Do not incorporate any routine or technique that eliminates coating features that are touching the border of an image or guard frame.
B26: Calculate Area Porosity
A27: 16 | B27: Click Analyze > Analyze Particles.
A28: 17 | B28: Make sure the only box checked is “Display Results” and click ok.
A29: 18 | B29: Slowly scroll through the results looking at the “Area” column to see what the largest areas are for the spots. If pull-outs are present, they will be the particles with very large areas. Get a feel for the particle size of pullouts. If dark oxides or noise are present, they will have very small areas. Get a feel for the particle size of oxides and noise as well.
A30: 19 | B30: Close the displayed results.
A31: 20 | B31: Select Analyze > Analyze Particles. This time, uncheck display results and click the “Summarize” box. At the very top of the box, in the “Size (pixel^2)” box, put in the area you want to measure. (For example, if you decide that most of the 1 pixel spots are dark oxides or noise, and that areas of more than 50 pixel^2 are pullouts, you would enter 2-50 in the “Size (pixel^2)” box so that areas less than 2 and greater than 50 pixel^2 will not be taken into account for the porosity measurement.)
A32: 21 | B32: Take the area fraction value from the summary and copy it into an Excel spreadsheet. This value is the percentage of porosity. Repeat this analysis 3 times for each image to ensure accurate data.
A33: 22 | B33: Average the area fraction for all the images analyzed for the sample to determine the porosity of the sample.
B35: Calculating Statistics
B36: No determination of porosity can be an exact measurement. Many specimens vary measurably in porosity from one field of view to another, this variation being responsible for a major portion of the uncertainty. Thus, no determination is complete without aldo calculating its precision within normal confidence. In accordance with common engineering practice, this section assumes normal confidence to represent the expectation that the actual error will be within the stated uncertainty 95% of the time.
A37: 23 | B37: Calculate mean
A38: 24 | B38: Calculate standard deviation
A39: 25 | B39: Calculate 95% confidence interval
A40: 26 | B40: Calculate the percent relative accuracy
A41: 27 | B41: As a general rule, 10% RA (or lower) is considered to be acceptable precision for most purposes.

Sheet AsSprayed_BottomLayer
B1: Porosity Analysis of Thermal Spray Coatings
B2: Heriot-Watt University, Dubai Campus
B3: Porosity Analysis conducted using thresholding to isolate pores and voids, followd by a binary opening process to remove small features. Consult ASTM E2109 for more information.
B5: Specification Identification | C5: SHVOF_1000X | G5: Index | H5: Porosity
B6: Operator | C6: Vishakh Kumar | G6: i | H6: x_i | J6: Number of Samples (n) | K6: =MAX(G7:G26) -> 20
B7: Date | C7: =TODAY() -> 45321 | G7: 1 | H7: 2.517 | J7: Confidence Interval Multipiers (t) | K7: =VLOOKUP(K6,confidence_95_multiplier1220222428303234[#All],2,FALSE) -> 2.093
G8: 2 | H8: 1.495 | J8: Mean (x_bar) | K8: =AVERAGE(porosity_readings1119212327293133[x_i]) -> 1.5685
B9: Magnification Used | C9: 1000 | G9: 3 | H9: 1.381 | J9: Standard Deviation (S) | K9: =_xlfn.STDEV.S(porosity_readings1119212327293133[x_i]) -> 0.54136985
B10: Mean area % porosity | C10: =AsSprayed_BottomLayer!K8 -> 1.5685 | G10: 4 | H10: 1.197 | J10: 95% Confidence Interval (95% CI) | K10: =K9*K7/(SQRT(K6)) -> 0.25336598
B11: Minimum area % porosity | C11: =AsSprayed_BottomLayer!K12 -> 0.872 | G11: 5 | H11: 2.635 | J11: 95% Relative Accuracy (%RA) | K11: =K10/K8 -> 0.16153394
B12: Maximum area % porosity | C12: =AsSprayed_BottomLayer!K13 -> 2.635 | G12: 6 | H12: 1.984 | J12: Minimum (x_min) | K12: =MIN(porosity_readings1119212327293133[x_i]) -> 0.872
B13: Standard Deviation | C13: =AsSprayed_BottomLayer!K9 -> 0.54136985 | G13: 7 | H13: 1.99 | J13: Maximum (x_max) | K13: =MAX(porosity_readings1119212327293133[x_i]) -> 2.635
B14: 95% confidence interval | C14: =AsSprayed_BottomLayer!K10 -> 0.25336598 | G14: 8 | H14: 1.856
B15: % Relative Accuracy value | C15: =AsSprayed_BottomLayer!K11 -> 0.16153394 | G15: 9 | H15: 1.222 | J15: 95% Confidence Interval Multipliers, t
B16: Number of fields measured | C16: =AsSprayed_BottomLayer!K6 -> 20 | G16: 10 | H16: 1.542 | J16: n | K16: t
G17: 11 | H17: 1.321 | J17: 20 | K17: 2.093
B18: Gaussian Blur | C18: 0 | G18: 12 | H18: 2.237 | J18: 21 | K18: 2.086
B19: Lower Threshold | C19: 0 | G19: 13 | H19: 0.913 | J19: 22 | K19: 2.08
B20: Upper Threshold | C20: 115 | G20: 14 | H20: 1.291 | J20: 23 | K20: 2.074
G21: 15 | H21: 2.082 | J21: 24 | K21: 2.069
G22: 16 | H22: 0.998 | J22: 25 | K22: 2.064
G23: 17 | H23: 1.14 | J23: 26 | K23: 2.06
G24: 18 | H24: 1.812 | J24: 27 | K24: 2.056
G25: 19 | H25: 0.872 | J25: 28 | K25: 2.052
G26: 20 | H26: 0.885 | J26: 29 | K26: 2.048
J27: 30 | K27: 2.045
J28: 40 | K28: 2.02
J29: 60 | K29: 2

Sheet AsSprayed_TopLayer
B1: Porosity Analysis of Thermal Spray Coatings
B2: Heriot-Watt University, Dubai Campus
B3: Porosity Analysis conducted using thresholding to isolate pores and voids, followd by a binary opening process to remove small features. Consult ASTM E2109 for more information.
B5: Specification Identification | C5: SHVOF_1000X | G5: Index | H5: Porosity
B6: Operator | C6: Vishakh Kumar | G6: i | H6: x_i | J6: Number of Samples (n) | K6: =MAX(G7:G26) -> 20
B7: Date | C7: =TODAY() -> 45321 | G7: 1 | H7: 2.158 | J7: Confidence Interval Multipiers (t) | K7: =VLOOKUP(K6,confidence_95_multiplier12202224283032346[#All],2,FALSE) -> 2.093
G8: 2 | H8: 2.05 | J8: Mean (x_bar) | K8: =AVERAGE(porosity_readings11192123272931334[x_i]) -> 2.21475
B9: Magnification Used | C9: 1000 | G9: 3 | H9: 1.717 | J9: Standard Deviation (S) | K9: =_xlfn.STDEV.S(porosity_readings11192123272931334[x_i]) -> 0.66868755
B10: Mean area % porosity | C10: =AsSprayed_TopLayer!K8 -> 2.21475 | G10: 4 | H10: 1.544 | J10: 95% Confidence Interval (95% CI) | K10: =K9*K7/(SQRT(K6)) -> 0.31295181
B11: Minimum area % porosity | C11: =AsSprayed_TopLayer!K12 -> 1.253 | G11: 5 | H11: 3.193 | J11: 95% Relative Accuracy (%RA) | K11: =K10/K8 -> 0.14130345
B12: Maximum area % porosity | C12: =AsSprayed_TopLayer!K13 -> 3.209 | G12: 6 | H12: 2.907 | J12: Minimum (x_min) | K12: =MIN(porosity_readings11192123272931334[x_i]) -> 1.253
B13: Standard Deviation | C13: =AsSprayed_TopLayer!K9 -> 0.66868755 | G13: 7 | H13: 3.209 | J13: Maximum (x_max) | K13: =MAX(porosity_readings11192123272931334[x_i]) -> 3.209
B14: 95% confidence interval | C14: =AsSprayed_TopLayer!K10 -> 0.31295181 | G14: 8 | H14: 2.995
B15: % Relative Accuracy value | C15: =AsSprayed_TopLayer!K11 -> 0.14130345 | G15: 9 | H15: 2.498 | J15: 95% Confidence Interval Multipliers, t
B16: Number of fields measured | C16: =AsSprayed_TopLayer!K6 -> 20 | G16: 10 | H16: 1.301 | J16: n | K16: t
G17: 11 | H17: 2.532 | J17: 20 | K17: 2.093
B18: Gaussian Blur | C18: 0 | G18: 12 | H18: 3.135 | J18: 21 | K18: 2.086
B19: Lower Threshold | C19: 0 | G19: 13 | H19: 1.253 | J19: 22 | K19: 2.08
B20: Upper Threshold | C20: 87 | G20: 14 | H20: 2.681 | J20: 23 | K20: 2.074
G21: 15 | H21: 2.471 | J21: 24 | K21: 2.069
G22: 16 | H22: 1.675 | J22: 25 | K22: 2.064
G23: 17 | H23: 1.544 | J23: 26 | K23: 2.06
G24: 18 | H24: 2.065 | J24: 27 | K24: 2.056
G25: 19 | H25: 1.274 | J25: 28 | K25: 2.052
G26: 20 | H26: 2.093 | J26: 29 | K26: 2.048
J27: 30 | K27: 2.045
J28: 40 | K28: 2.02
J29: 60 | K29: 2

Sheet SHVOF_1000X (with cracks)
B1: Porosity Analysis of Thermal Spray Coatings
B2: Heriot-Watt University, Dubai Campus
B3: Porosity Analysis conducted using thresholding to isolate pores and voids, followd by a binary opening process to remove small features. Consult ASTM E2109 for more information.
B5: Specification Identification | C5: SHVOF_1000X | G5: Index | H5: Porosity
B6: Operator | C6: Vishakh Kumar | G6: i | H6: x_i | J6: Number of Samples (n) | K6: =MAX(G7:G66) -> 60 | N6: 1 | O6: 56 | P6: 694 | Q6: 12.393 | R6: 2.711 | S6: 255
B7: Date | C7: =TODAY() -> 45321 | G7: 1 | H7: 2.711 | J7: Confidence Interval Multipiers (t) | K7: =VLOOKUP(K6,confidence_95_multiplier122022242830323444[#All],2,FALSE) -> 2 | N7: 2 | O7: 43 | P7: 519 | Q7: 12.07 | R7: 2.027 | S7: 255
G8: 2 | H8: 2.027 | J8: Mean (x_bar) | K8: =AVERAGE(porosity_readings111921232729313343[x_i]) -> 2.7262667 | N8: 3 | O8: 49 | P8: 719 | Q8: 14.673 | R8: 2.809 | S8: 255
B9: Magnification Used | C9: 1000 | G9: 3 | H9: 2.809 | J9: Standard Deviation (S) | K9: =_xlfn.STDEV.S(porosity_readings111921232729313343[x_i]) -> 0.98819862 | N9: 4 | O9: 42 | P9: 457 | Q9: 10.881 | R9: 1.785 | S9: 255
B10: Mean area % porosity | C10: ='SHVOF_1000X (with cracks)'!K8 -> 2.7262667 | G10: 4 | H10: 1.785 | J10: 95% Confidence Interval (95% CI) | K10: =K9*K7/(SQRT(K6)) -> 0.25515179 | N10: 5 | O10: 57 | P10: 695 | Q10: 12.193 | R10: 2.715 | S10: 255
B11: Minimum area % porosity | C11: ='SHVOF_1000X (with cracks)'!K12 -> 1.16 | G11: 5 | H11: 2.715 | J11: 95% Relative Accuracy (%RA) | K11: =K10/K8 -> 0.093590179 | N11: 6 | O11: 64 | P11: 616 | Q11: 9.625 | R11: 2.406 | S11: 255
B12: Maximum area % porosity | C12: ='SHVOF_1000X (with cracks)'!K13 -> 5.733 | G12: 6 | H12: 2.406 | J12: Minimum (x_min) | K12: =MIN(porosity_readings111921232729313343[x_i]) -> 1.16 | N12: 7 | O12: 75 | P12: 857 | Q12: 11.427 | R12: 3.348 | S12: 255
B13: Standard Deviation | C13: ='SHVOF_1000X (with cracks)'!K9 -> 0.98819862 | G13: 7 | H13: 3.348 | J13: Maximum (x_max) | K13: =MAX(porosity_readings111921232729313343[x_i]) -> 5.733 | N13: 8 | O13: 44 | P13: 297 | Q13: 6.75 | R13: 1.16 | S13: 255
B14: 95% confidence interval | C14: ='SHVOF_1000X (with cracks)'!K10 -> 0.25515179 | G14: 8 | H14: 1.16 | N14: 9 | O14: 49 | P14: 1174 | Q14: 23.959 | R14: 4.586 | S14: 255
B15: % Relative Accuracy value | C15: ='SHVOF_1000X (with cracks)'!K11 -> 0.093590179 | G15: 9 | H15: 4.586 | J15: 95% Confidence Interval Multipliers, t | N15: 10 | O15: 64 | P15: 1021 | Q15: 15.953 | R15: 3.988 | S15: 255
B16: Number of fields measured | C16: ='SHVOF_1000X (with cracks)'!K6 -> 60 | G16: 10 | H16: 3.988 | J16: n | K16: t | N16: 11 | O16: 75 | P16: 740 | Q16: 9.867 | R16: 2.891 | S16: 255
G17: 11 | H17: 2.891 | J17: 20 | K17: 2.093 | N17: 12 | O17: 37 | P17: 430 | Q17: 11.622 | R17: 1.68 | S17: 255
B18: Gaussian Blur | C18: 0 | G18: 12 | H18: 1.68 | J18: 21 | K18: 2.086 | N18: 13 | O18: 49 | P18: 747 | Q18: 15.245 | R18: 2.918 | S18: 255
B19: Lower Threshold | C19: 0 | G19: 13 | H19: 2.918 | J19: 22 | K19: 2.08 | N19: 14 | O19: 72 | P19: 1057 | Q19: 14.681 | R19: 4.129 | S19: 255
B20: Upper Threshold | C20: 115 | G20: 14 | H20: 4.129 | J20: 23 | K20: 2.074 | N20: 15 | O20: 65 | P20: 1008 | Q20: 15.508 | R20: 3.938 | S20: 255
G21: 15 | H21: 3.938 | J21: 24 | K21: 2.069 | N21: 16 | O21: 71 | P21: 706 | Q21: 9.944 | R21: 2.758 | S21: 255
G22: 16 | H22: 2.758 | J22: 25 | K22: 2.064 | N22: 17 | O22: 53 | P22: 659 | Q22: 12.434 | R22: 2.574 | S22: 255
G23: 17 | H23: 2.574 | J23: 26 | K23: 2.06 | N23: 18 | O23: 55 | P23: 899 | Q23: 16.345 | R23: 3.512 | S23: 255
G24: 18 | H24: 3.512 | J24: 27 | K24: 2.056 | N24: 19 | O24: 48 | P24: 438 | Q24: 9.125 | R24: 1.711 | S24: 255
G25: 19 | H25: 1.711 | J25: 28 | K25: 2.052 | N25: 20 | O25: 74 | P25: 933 | Q25: 12.608 | R25: 3.645 | S25: 255
G26: 20 | H26: 3.645 | J26: 29 | K26: 2.048 | N26: 1 | O26: 55 | P26: 536 | Q26: 9.745 | R26: 2.167 | S26: 255
G27: 21 | H27: 2.167 | J27: 30 | K27: 2.045 | N27: 2 | O27: 52 | P27: 535 | Q27: 10.288 | R27: 2.163 | S27: 255
G28: 22 | H28: 2.163 | J28: 40 | K28: 2.02 | N28: 3 | O28: 52 | P28: 630 | Q28: 12.115 | R28: 2.547 | S28: 255
G29: 23 | H29: 2.547 | J29: 60 | K29: 2 | N29: 4 | O29: 59 | P29: 561 | Q29: 9.508 | R29: 2.268 | S29: 255
G30: 24 | H30: 2.268 | N30: 5 | O30: 65 | P30: 730 | Q30: 11.231 | R30: 2.951 | S30: 255
G31: 25 | H31: 2.951 | N31: 6 | O31: 52 | P31: 621 | Q31: 11.942 | R31: 2.511 | S31: 255
G32: 26 | H32: 2.511 | N32: 7 | O32: 49 | P32: 723 | Q32: 14.755 | R32: 2.923 | S32: 255
G33: 27 | H33: 2.923 | N33: 8 | O33: 75 | P33: 1009 | Q33: 13.453 | R33: 4.079 | S33: 255
G34: 28 | H34: 4.079 | N34: 9 | O34: 59 | P34: 1137 | Q34: 19.271 | R34: 4.597 | S34: 255
G35: 29 | H35: 4.597 | N35: 10 | O35: 65 | P35: 862 | Q35: 13.262 | R35: 3.485 | S35: 255
G36: 30 | H36: 3.485 | N36: 11 | O36: 53 | P36: 605 | Q36: 11.415 | R36: 2.446 | S36: 255
G37: 31 | H37: 2.446 | N37: 12 | O37: 47 | P37: 1416 | Q37: 30.128 | R37: 5.725 | S37: 255
G38: 32 | H38: 5.725 | N38: 13 | O38: 64 | P38: 730 | Q38: 11.406 | R38: 2.951 | S38: 255
G39: 33 | H39: 2.951 | N39: 14 | O39: 53 | P39: 460 | Q39: 8.679 | R39: 1.86 | S39: 255
G40: 34 | H40: 1.86 | N40: 15 | O40: 62 | P40: 507 | Q40: 8.177 | R40: 2.05 | S40: 255
G41: 35 | H41: 2.05 | N41: 16 | O41: 56 | P41: 481 | Q41: 8.589 | R41: 1.945 | S41: 255
... G65: 59 | H65: 1.854 | N65: 20 | O65: 50 | P65: 373 | Q65: 7.46 | R65: 1.59 | S65: 255
G66: 60 | H66: 1.59

Sheet HIP_SHVOF_0250X (with cracks)
B1: Porosity Analysis of Thermal Spray Coatings
B2: Heriot-Watt University, Dubai Campus
B3: Porosity Analysis conducted using thresholding to isolate pores and voids, followd by a binary opening process to remove small features. Consult ASTM E2109 for more information.
B5: Specification Identification | C5: HIP_SHVOF_0250X | G5: Index | H5: Porosity
B6: Operator | C6: Vishakh Kumar | G6: i | H6: x_i | J6: Number of Samples (n) | K6: =MAX(G7:G36) -> 30 | N6: 1 | O6: 75 | P6: 169 | Q6: 2.253 | R6: 4.4 | S6: 255
B7: Date | C7: =TODAY() -> 45321 | G7: 1 | H7: 4.4 | J7: Confidence Interval Multipiers (t) | K7: =VLOOKUP(K6,confidence_95_multiplier122022242830323642[#All],2,FALSE) -> 2.045 | N7: 2 | O7: 77 | P7: 128 | Q7: 1.662 | R7: 3.332 | S7: 255
G8: 2 | H8: 3.332 | J8: Mean (x_bar) | K8: =AVERAGE(porosity_readings111921232729313541[x_i]) -> 4.6817 | N8: 3 | O8: 64 | P8: 151 | Q8: 2.359 | R8: 3.931 | S8: 255
B9: Magnification Used | C9: 1000 | G9: 3 | H9: 3.931 | J9: Standard Deviation (S) | K9: =_xlfn.STDEV.S(porosity_readings111921232729313541[x_i]) -> 1.7611804 | N9: 4 | O9: 68 | P9: 131 | Q9: 1.926 | R9: 3.411 | S9: 255
B10: Mean area % porosity | C10: ='HIP_SHVOF_0250X (with cracks)'!K8 -> 4.6817 | G10: 4 | H10: 3.411 | J10: 95% Confidence Interval (95% CI) | K10: =K9*K7/(SQRT(K6)) -> 0.65756173 | N10: 5 | O10: 62 | P10: 132 | Q10: 2.129 | R10: 3.437 | S10: 255
B11: Minimum area % porosity | C11: ='HIP_SHVOF_0250X (with cracks)'!K12 -> 2.447 | G11: 5 | H11: 3.437 | J11: 95% Relative Accuracy (%RA) | K11: =K10/K8 -> 0.14045362 | N11: 6 | O11: 60 | P11: 111 | Q11: 1.85 | R11: 2.89 | S11: 255
B12: Maximum area % porosity | C12: ='HIP_SHVOF_0250X (with cracks)'!K13 -> 8.562 | G12: 6 | H12: 2.89 | J12: Minimum (x_min) | K12: =MIN(porosity_readings111921232729313541[x_i]) -> 2.447 | N12: 7 | O12: 75 | P12: 192 | Q12: 2.56 | R12: 4.999 | S12: 255
B13: Standard Deviation | C13: ='HIP_SHVOF_0250X (with cracks)'!K9 -> 1.7611804 | G13: 7 | H13: 4.999 | J13: Maximum (x_max) | K13: =MAX(porosity_readings111921232729313541[x_i]) -> 8.562 | N13: 8 | O13: 57 | P13: 94 | Q13: 1.649 | R13: 2.447 | S13: 255
B14: 95% confidence interval | C14: ='HIP_SHVOF_0250X (with cracks)'!K10 -> 0.65756173 | G14: 8 | H14: 2.447 | N14: 9 | O14: 62 | P14: 117 | Q14: 1.887 | R14: 3.046 | S14: 255
B15: % Relative Accuracy value | C15: ='HIP_SHVOF_0250X (with cracks)'!K11 -> 0.14045362 | G15: 9 | H15: 3.046 | J15: 95% Confidence Interval Multipliers, t | N15: 10 | O15: 60 | P15: 113 | Q15: 1.883 | R15: 2.942 | S15: 255
B16: Number of fields measured | C16: ='HIP_SHVOF_0250X (with cracks)'!K6 -> 30 | G16: 10 | H16: 2.942 | J16: n | K16: t | N16: 11 | O16: 77 | P16: 166 | Q16: 2.156 | R16: 4.322 | S16: 255
G17: 11 | H17: 4.322 | J17: 20 | K17: 2.093 | N17: 12 | O17: 71 | P17: 157 | Q17: 2.211 | R17: 4.087 | S17: 255
B18: Gaussian Blur | C18: 0 | G18: 12 | H18: 4.087 | J18: 21 | K18: 2.086 | N18: 13 | O18: 78 | P18: 119 | Q18: 1.526 | R18: 3.098 | S18: 255
B19: Lower Threshold | C19: 0 | G19: 13 | H19: 3.098 | J19: 22 | K19: 2.08 | N19: 14 | O19: 49 | P19: 94 | Q19: 1.918 | R19: 2.447 | S19: 255
B20: Upper Threshold | C20: 73 | G20: 14 | H20: 2.447 | J20: 23 | K20: 2.074 | N20: 15 | O20: 71 | P20: 199 | Q20: 2.803 | R20: 5.181 | S20: 255
G21: 15 | H21: 5.181 | J21: 24 | K21: 2.069 | N21: 1 | O21: 198 | P21: 782 | Q21: 3.949 | R21: 8.519 | S21: 255
G22: 16 | H22: 8.519 | J22: 25 | K22: 2.064 | N22: 2 | O22: 152 | P22: 314 | Q22: 2.066 | R22: 3.42 | S22: 255
G23: 17 | H23: 3.42 | J23: 26 | K23: 2.06 | N23: 3 | O23: 170 | P23: 786 | Q23: 4.624 | R23: 8.562 | S23: 255
G24: 18 | H24: 8.562 | J24: 27 | K24: 2.056 | N24: 4 | O24: 168 | P24: 488 | Q24: 2.905 | R24: 5.316 | S24: 255
G25: 19 | H25: 5.316 | J25: 28 | K25: 2.052 | N25: 5 | O25: 146 | P25: 526 | Q25: 3.603 | R25: 5.73 | S25: 255
G26: 20 | H26: 5.73 | J26: 29 | K26: 2.048 | N26: 6 | O26: 181 | P26: 618 | Q26: 3.414 | R26: 6.732 | S26: 255
G27: 21 | H27: 6.732 | J27: 30 | K27: 2.045 | N27: 7 | O27: 155 | P27: 271 | Q27: 1.748 | R27: 2.952 | S27: 255
G28: 22 | H28: 2.952 | J28: 40 | K28: 2.02 | N28: 8 | O28: 145 | P28: 661 | Q28: 4.559 | R28: 7.2 | S28: 255
G29: 23 | H29: 7.2 | J29: 60 | K29: 2 | N29: 9 | O29: 152 | P29: 368 | Q29: 2.421 | R29: 4.009 | S29: 255
G30: 24 | H30: 4.009 | N30: 10 | O30: 153 | P30: 440 | Q30: 2.876 | R30: 4.793 | S30: 255
G31: 25 | H31: 4.793 | N31: 11 | O31: 149 | P31: 604 | Q31: 4.054 | R31: 6.58 | S31: 255
G32: 26 | H32: 6.58 | N32: 12 | O32: 182 | P32: 721 | Q32: 3.962 | R32: 7.854 | S32: 255
G33: 27 | H33: 7.854 | N33: 13 | O33: 173 | P33: 448 | Q33: 2.59 | R33: 4.88 | S33: 255
G34: 28 | H34: 4.88 | N34: 14 | O34: 146 | P34: 381 | Q34: 2.61 | R34: 4.15 | S34: 255
G35: 29 | H35: 4.15 | N35: 15 | O35: 150 | P35: 531 | Q35: 3.54 | R35: 5.784 | S35: 255
G36: 30 | H36: 5.784

Sheet HIP_SHVOF_0250X
B1: Porosity Analysis of Thermal Spray Coatings
B2: Heriot-Watt University, Dubai Campus
B3: Porosity Analysis conducted using thresholding to isolate pores and voids, followd by a binary opening process to remove small features. Consult ASTM E2109 for more information.
B5: Specification Identification | C5: HIP_SHVOF_0250X | G5: Index | H5: Porosity
B6: Operator | C6: Vishakh Kumar | G6: i | H6: x_i | J6: Number of Samples (n) | K6: =MAX(G7:G46) -> 40 | N6: 1 | O6: 44 | P6: 92 | Q6: 2.091 | R6: 5.6 | S6: 255
B7: Date | C7: =TODAY() -> 45321 | G7: 1 | H7: 5.6 | J7: Confidence Interval Multipiers (t) | K7: =VLOOKUP(K6,confidence_95_multiplier1220222428303236[#All],2,FALSE) -> 2.02 | N7: 2 | O7: 38 | P7: 82 | Q7: 2.158 | R7: 4.991 | S7: 255
G8: 2 | H8: 4.991 | J8: Mean (x_bar) | K8: =AVERAGE(porosity_readings1119212327293135[x_i]) -> 3.6315 | N8: 3 | O8: 26 | P8: 47 | Q8: 1.808 | R8: 2.861 | S8: 255
B9: Magnification Used | C9: 1000 | G9: 3 | H9: 2.861 | J9: Standard Deviation (S) | K9: =_xlfn.STDEV.S(porosity_readings1119212327293135[x_i]) -> 0.9250085 | N9: 4 | O9: 18 | P9: 35 | Q9: 1.944 | R9: 2.13 | S9: 255
B10: Mean area % porosity | C10: =HIP_SHVOF_0250X!K8 -> 3.6315 | G10: 4 | H10: 2.13 | J10: 95% Confidence Interval (95% CI) | K10: =K9*K7/(SQRT(K6)) -> 0.2954385 | N10: 5 | O10: 29 | P10: 72 | Q10: 2.483 | R10: 4.382 | S10: 255
B11: Minimum area % porosity | C11: =HIP_SHVOF_0250X!K12 -> 2.13 | G11: 5 | H11: 4.382 | J11: 95% Relative Accuracy (%RA) | K11: =K10/K8 -> 0.0813544 | N11: 6 | O11: 30 | P11: 70 | Q11: 2.333 | R11: 4.26 | S11: 255
B12: Maximum area % porosity | C12: =HIP_SHVOF_0250X!K13 -> 6.026 | G12: 6 | H12: 4.26 | J12: Minimum (x_min) | K12: =MIN(porosity_readings1119212327293135[x_i]) -> 2.13 | N12: 7 | O12: 37 | P12: 79 | Q12: 2.135 | R12: 4.808 | S12: 255
B13: Standard Deviation | C13: =HIP_SHVOF_0250X!K9 -> 0.9250085 | G13: 7 | H13: 4.808 | J13: Maximum (x_max) | K13: =MAX(porosity_readings1119212327293135[x_i]) -> 6.026 | N13: 8 | O13: 29 | P13: 59 | Q13: 2.034 | R13: 3.591 | S13: 255
B14: 95% confidence interval | C14: =HIP_SHVOF_0250X!K10 -> 0.2954385 | G14: 8 | H14: 3.591 | N14: 9 | O14: 36 | P14: 61 | Q14: 1.694 | R14: 3.713 | S14: 255
B15: % Relative Accuracy value | C15: =HIP_SHVOF_0250X!K11 -> 0.0813544 | G15: 9 | H15: 3.713 | J15: 95% Confidence Interval Multipliers, t | N15: 10 | O15: 24 | P15: 37 | Q15: 1.542 | R15: 2.252 | S15: 255
B16: Number of fields measured | C16: =HIP_SHVOF_0250X!K6 -> 40 | G16: 10 | H16: 2.252 | J16: n | K16: t | N16: 11 | O16: 26 | P16: 47 | Q16: 1.808 | R16: 2.861 | S16: 255
G17: 11 | H17: 2.861 | J17: 20 | K17: 2.093 | N17: 12 | O17: 30 | P17: 57 | Q17: 1.9 | R17: 3.469 | S17: 255
B18: Gaussian Blur | C18: 0 | G18: 12 | H18: 3.469 | J18: 21 | K18: 2.086 | N18: 13 | O18: 36 | P18: 63 | Q18: 1.75 | R18: 3.834 | S18: 255
B19: Lower Threshold | C19: 0 | G19: 13 | H19: 3.834 | J19: 22 | K19: 2.08 | N19: 14 | O19: 42 | P19: 75 | Q19: 1.786 | R19: 4.565 | S19: 255
B20: Upper Threshold | C20: 73 | G20: 14 | H20: 4.565 | J20: 23 | K20: 2.074 | N20: 15 | O20: 34 | P20: 63 | Q20: 1.853 | R20: 3.834 | S20: 255
G21: 15 | H21: 3.834 | J21: 24 | K21: 2.069 | N21: 16 | O21: 28 | P21: 55 | Q21: 1.964 | R21: 3.348 | S21: 255
G22: 16 | H22: 3.348 | J22: 25 | K22: 2.064 | N22: 17 | O22: 28 | P22: 72 | Q22: 2.571 | R22: 4.382 | S22: 255
G23: 17 | H23: 4.382 | J23: 26 | K23: 2.06 | N23: 18 | O23: 32 | P23: 65 | Q23: 2.031 | R23: 3.956 | S23: 255
G24: 18 | H24: 3.956 | J24: 27 | K24: 2.056 | N24: 19 | O24: 34 | P24: 69 | Q24: 2.029 | R24: 4.2 | S24: 255
G25: 19 | H25: 4.2 | J25: 28 | K25: 2.052 | N25: 20 | O25: 42 | P25: 99 | Q25: 2.357 | R25: 6.026 | S25: 255
G26: 20 | H26: 6.026 | J26: 29 | K26: 2.048 | N26: 1 | O26: 35 | P26: 65 | Q26: 1.857 | R26: 2.861 | S26: 255
G27: 21 | H27: 2.861 | J27: 30 | K27: 2.045 | N27: 2 | O27: 55 | P27: 101 | Q27: 1.836 | R27: 4.445 | S27: 255
G28: 22 | H28: 4.445 | J28: 40 | K28: 2.02 | N28: 3 | O28: 47 | P28: 72 | Q28: 1.532 | R28: 3.169 | S28: 255
G29: 23 | H29: 3.169 | J29: 60 | K29: 2 | N29: 4 | O29: 36 | P29: 63 | Q29: 1.75 | R29: 2.773 | S29: 255
G30: 24 | H30: 2.773 | N30: 5 | O30: 34 | P30: 56 | Q30: 1.647 | R30: 2.465 | S30: 255
G31: 25 | H31: 2.465 | N31: 6 | O31: 44 | P31: 94 | Q31: 2.136 | R31: 4.137 | S31: 255
G32: 26 | H32: 4.137 | N32: 7 | O32: 43 | P32: 71 | Q32: 1.651 | R32: 3.125 | S32: 255
G33: 27 | H33: 3.125 | N33: 8 | O33: 39 | P33: 84 | Q33: 2.154 | R33: 3.697 | S33: 255
G34: 28 | H34: 3.697 | N34: 9 | O34: 40 | P34: 73 | Q34: 1.825 | R34: 3.213 | S34: 255
G35: 29 | H35: 3.213 | N35: 10 | O35: 32 | P35: 50 | Q35: 1.562 | R35: 2.201 | S35: 255
G36: 30 | H36: 2.201 | N36: 11 | O36: 46 | P36: 117 | Q36: 2.543 | R36: 5.15 | S36: 255
G37: 31 | H37: 5.15 | N37: 12 | O37: 31 | P37: 64 | Q37: 2.065 | R37: 2.817 | S37: 255
G38: 32 | H38: 2.817 | N38: 13 | O38: 40 | P38: 72 | Q38: 1.8 | R38: 3.169 | S38: 255
G39: 33 | H39: 3.169 | N39: 14 | O39: 45 | P39: 83 | Q39: 1.844 | R39: 3.653 | S39: 255
G40: 34 | H40: 3.653 | N40: 15 | O40: 34 | P40: 56 | Q40: 1.647 | R40: 2.465 | S40: 255
G41: 35 | H41: 2.465 | N41: 16 | O41: 46 | P41: 85 | Q41: 1.848 | R41: 3.741 | S41: 255
... G45: 39 | H45: 3.653 | N45: 20 | O45: 40 | P45: 86 | Q45: 2.15 | R45: 3.785 | S45: 255
G46: 40 | H46: 3.785

Sheet SHVOF_0250X
B1: Porosity Analysis of Thermal Spray Coatings
B2: Heriot-Watt University, Dubai Campus
B3: Porosity Analysis conducted using thresholding to isolate pores and voids, followd by a binary opening process to remove small features. Consult ASTM E2109 for more information.
B5: Specification Identification | C5: SHVOF_0250X | G5: Index | H5: Porosity
B6: Operator | C6: Vishakh Kumar | G6: i | H6: x_i | J6: Number of Samples (n) | K6: =MAX(G7:G66) -> 60 | N6: 1 | O6: 16 | P6: 42 | Q6: 2.625 | R6: 3.304 | S6: 255
B7: Date | C7: =TODAY() -> 45321 | G7: 1 | H7: 3.304 | J7: Confidence Interval Multipiers (t) | K7: =VLOOKUP(K6,confidence_95_multiplier12202224283032[#All],2,FALSE) -> 2 | N7: 2 | O7: 14 | P7: 23 | Q7: 1.643 | R7: 1.81 | S7: 255
G8: 2 | H8: 1.81 | J8: Mean (x_bar) | K8: =AVERAGE(porosity_readings11192123272931[x_i]) -> 2.39935 | N8: 3 | O8: 16 | P8: 25 | Q8: 1.562 | R8: 1.967 | S8: 255
B9: Magnification Used | C9: 1000 | G9: 3 | H9: 1.967 | J9: Standard Deviation (S) | K9: =_xlfn.STDEV.S(porosity_readings11192123272931[x_i]) -> 0.85889452 | N9: 4 | O9: 20 | P9: 24 | Q9: 1.2 | R9: 1.888 | S9: 255
B10: Mean area % porosity | C10: =SHVOF_0250X!K8 -> 2.39935 | G10: 4 | H10: 1.888 | J10: 95% Confidence Interval (95% CI) | K10: =K9*K7/(SQRT(K6)) -> 0.22176561 | N10: 5 | O10: 17 | P10: 37 | Q10: 2.176 | R10: 2.911 | S10: 255
B11: Minimum area % porosity | C11: =SHVOF_0250X!K12 -> 0.651 | G11: 5 | H11: 2.911 | J11: 95% Relative Accuracy (%RA) | K11: =K10/K8 -> 0.09242737 | N11: 6 | O11: 13 | P11: 30 | Q11: 2.308 | R11: 2.36 | S11: 255
B12: Maximum area % porosity | C12: =SHVOF_0250X!K13 -> 4.642 | G12: 6 | H12: 2.36 | J12: Minimum (x_min) | K12: =MIN(porosity_readings11192123272931[x_i]) -> 0.651 | N12: 7 | O12: 19 | P12: 39 | Q12: 2.053 | R12: 3.068 | S12: 255
B13: Standard Deviation | C13: =SHVOF_0250X!K9 -> 0.85889452 | G13: 7 | H13: 3.068 | J13: Maximum (x_max) | K13: =MAX(porosity_readings11192123272931[x_i]) -> 4.642 | N13: 8 | O13: 23 | P13: 58 | Q13: 2.522 | R13: 4.563 | S13: 255
B14: 95% confidence interval | C14: =SHVOF_0250X!K10 -> 0.22176561 | G14: 8 | H14: 4.563 | N14: 9 | O14: 22 | P14: 44 | Q14: 2 | R14: 3.462 | S14: 255
B15: % Relative Accuracy value | C15: =SHVOF_0250X!K11 -> 0.09242737 | G15: 9 | H15: 3.462 | J15: 95% Confidence Interval Multipliers, t | N15: 10 | O15: 20 | P15: 41 | Q15: 2.05 | R15: 3.226 | S15: 255
B16: Number of fields measured | C16: =SHVOF_0250X!K6 -> 60 | G16: 10 | H16: 3.226 | J16: n | K16: t | N16: 11 | O16: 13 | P16: 28 | Q16: 2.154 | R16: 2.203 | S16: 255
G17: 11 | H17: 2.203 | J17: 20 | K17: 2.093 | N17: 12 | O17: 14 | P17: 25 | Q17: 1.786 | R17: 1.967 | S17: 255
B18: Gaussian Blur | C18: 0 | G18: 12 | H18: 1.967 | J18: 21 | K18: 2.086 | N18: 13 | O18: 12 | P18: 18 | Q18: 1.5 | R18: 1.416 | S18: 255
B19: Lower Threshold | C19: 0 | G19: 13 | H19: 1.416 | J19: 22 | K19: 2.08 | N19: 14 | O19: 21 | P19: 33 | Q19: 1.571 | R19: 2.596 | S19: 255
B20: Upper Threshold | C20: 130 | G20: 14 | H20: 2.596 | J20: 23 | K20: 2.074 | N20: 15 | O20: 21 | P20: 57 | Q20: 2.714 | R20: 4.485 | S20: 255
G21: 15 | H21: 4.485 | J21: 24 | K21: 2.069 | N21: 16 | O21: 15 | P21: 18 | Q21: 1.2 | R21: 1.416 | S21: 255
G22: 16 | H22: 1.416 | J22: 25 | K22: 2.064 | N22: 17 | O22: 16 | P22: 21 | Q22: 1.312 | R22: 1.652 | S22: 255
G23: 17 | H23: 1.652 | J23: 26 | K23: 2.06 | N23: 18 | O23: 12 | P23: 36 | Q23: 3 | R23: 2.832 | S23: 255
G24: 18 | H24: 2.832 | J24: 27 | K24: 2.056 | N24: 19 | O24: 15 | P24: 59 | Q24: 3.933 | R24: 4.642 | S24: 255
G25: 19 | H25: 4.642 | J25: 28 | K25: 2.052 | N25: 20 | O25: 27 | P25: 40 | Q25: 1.481 | R25: 3.147 | S25: 255
G26: 20 | H26: 3.147 | J26: 29 | K26: 2.048 | N26: 1 | O26: 7 | P26: 19 | Q26: 2.714 | R26: 1.686 | S26: 255
G27: 21 | H27: 1.686 | J27: 30 | K27: 2.045 | N27: 2 | O27: 15 | P27: 26 | Q27: 1.733 | R27: 2.307 | S27: 255
G28: 22 | H28: 2.307 | J28: 40 | K28: 2.02 | N28: 3 | O28: 6 | P28: 14 | Q28: 2.333 | R28: 1.242 | S28: 255
G29: 23 | H29: 1.242 | J29: 60 | K29: 2 | N29: 4 | O29: 14 | P29: 29 | Q29: 2.071 | R29: 2.573 | S29: 255
G30: 24 | H30: 2.573 | N30: 5 | O30: 12 | P30: 18 | Q30: 1.5 | R30: 1.597 | S30: 255
G31: 25 | H31: 1.597 | N31: 6 | O31: 17 | P31: 23 | Q31: 1.353 | R31: 2.041 | S31: 255
G32: 26 | H32: 2.041 | N32: 7 | O32: 13 | P32: 18 | Q32: 1.385 | R32: 1.597 | S32: 255
G33: 27 | H33: 1.597 | N33: 8 | O33: 14 | P33: 30 | Q33: 2.143 | R33: 2.662 | S33: 255
G34: 28 | H34: 2.662 | N34: 9 | O34: 18 | P34: 28 | Q34: 1.556 | R34: 2.484 | S34: 255
G35: 29 | H35: 2.484 | N35: 10 | O35: 14 | P35: 21 | Q35: 1.5 | R35: 1.863 | S35: 255
G36: 30 | H36: 1.863 | N36: 11 | O36: 14 | P36: 39 | Q36: 2.786 | R36: 3.461 | S36: 255
G37: 31 | H37: 3.461 | N37: 12 | O37: 20 | P37: 49 | Q37: 2.45 | R37: 4.348 | S37: 255
G38: 32 | H38: 4.348 | N38: 13 | O38: 12 | P38: 24 | Q38: 2 | R38: 2.13 | S38: 255
G39: 33 | H39: 2.13 | N39: 14 | O39: 11 | P39: 16 | Q39: 1.455 | R39: 1.42 | S39: 255
G40: 34 | H40: 1.42 | N40: 15 | O40: 17 | P40: 33 | Q40: 1.941 | R40: 2.928 | S40: 255
G41: 35 | H41: 2.928 | N41: 16 | O41: 12 | P41: 20 | Q41: 1.667 | R41: 1.775 | S41: 255
... G65: 59 | H65: 3.709 | N65: 20 | O65: 19 | P65: 39 | Q65: 2.053 | R65: 2.537 | S65: 255
G66: 60 | H66: 2.537

Sheet SHVOF_0250X (with cracks)
B1: Porosity Analysis of Thermal Spray Coatings
B2: Heriot-Watt University, Dubai Campus
B3: Porosity Analysis conducted using thresholding to isolate pores and voids, followd by a binary opening process to remove small features. Consult ASTM E2109 for more information.
B5: Specification Identification | C5: SHVOF_0250X | G5: Index | H5: Porosity
B6: Operator | C6: Vishakh Kumar | G6: i | H6: x_i | J6: Number of Samples (n) | K6: =MAX(G7:G46) -> 40 | N6: 1 | O6: 70 | P6: 126 | Q6: 1.8 | R6: 2.206 | S6: 255
B7: Date | C7: =TODAY() -> 45321 | G7: 1 | H7: 2.206 | J7: Confidence Interval Multipiers (t) | K7: =VLOOKUP(K6,confidence_95_multiplier1220222428303240[#All],2,FALSE) -> 2.02 | N7: 2 | O7: 73 | P7: 142 | Q7: 1.945 | R7: 2.486 | S7: 255
G8: 2 | H8: 2.486 | J8: Mean (x_bar) | K8: =AVERAGE(porosity_readings1119212327293139[x_i]) -> 3.035375 | N8: 3 | O8: 77 | P8: 138 | Q8: 1.792 | R8: 2.416 | S8: 255
B9: Magnification Used | C9: 1000 | G9: 3 | H9: 2.416 | J9: Standard Deviation (S) | K9: =_xlfn.STDEV.S(porosity_readings1119212327293139[x_i]) -> 1.1477448 | N9: 4 | O9: 83 | P9: 148 | Q9: 1.783 | R9: 2.591 | S9: 255
B10: Mean area % porosity | C10: ='SHVOF_0250X (with cracks)'!K8 -> 3.035375 | G10: 4 | H10: 2.591 | J10: 95% Confidence Interval (95% CI) | K10: =K9*K7/(SQRT(K6)) -> 0.36657828 | N10: 5 | O10: 62 | P10: 114 | Q10: 1.839 | R10: 1.996 | S10: 255
B11: Minimum area % porosity | C11: ='SHVOF_0250X (with cracks)'!K12 -> 1.768 | G11: 5 | H11: 1.996 | J11: 95% Relative Accuracy (%RA) | K11: =K10/K8 -> 0.1207687 | N11: 6 | O11: 87 | P11: 176 | Q11: 2.023 | R11: 3.081 | S11: 255
B12: Maximum area % porosity | C12: ='SHVOF_0250X (with cracks)'!K13 -> 7.471 | G12: 6 | H12: 3.081 | J12: Minimum (x_min) | K12: =MIN(porosity_readings1119212327293139[x_i]) -> 1.768 | N12: 7 | O12: 85 | P12: 163 | Q12: 1.918 | R12: 2.854 | S12: 255
B13: Standard Deviation | C13: ='SHVOF_0250X (with cracks)'!K9 -> 1.1477448 | G13: 7 | H13: 2.854 | J13: Maximum (x_max) | K13: =MAX(porosity_readings1119212327293139[x_i]) -> 7.471 | N13: 8 | O13: 84 | P13: 169 | Q13: 2.012 | R13: 2.959 | S13: 255
B14: 95% confidence interval | C14: ='SHVOF_0250X (with cracks)'!K10 -> 0.36657828 | G14: 8 | H14: 2.959 | N14: 9 | O14: 101 | P14: 213 | Q14: 2.109 | R14: 3.729 | S14: 255
B15: % Relative Accuracy value | C15: ='SHVOF_0250X (with cracks)'!K11 -> 0.1207687 | G15: 9 | H15: 3.729 | J15: 95% Confidence Interval Multipliers, t | N15: 10 | O15: 57 | P15: 101 | Q15: 1.772 | R15: 1.768 | S15: 255
B16: Number of fields measured | C16: ='SHVOF_0250X (with cracks)'!K6 -> 40 | G16: 10 | H16: 1.768 | J16: n | K16: t | N16: 11 | O16: 80 | P16: 161 | Q16: 2.013 | R16: 2.819 | S16: 255
G17: 11 | H17: 2.819 | J17: 20 | K17: 2.093 | N17: 12 | O17: 105 | P17: 217 | Q17: 2.067 | R17: 3.799 | S17: 255
B18: Gaussian Blur | C18: 0 | G18: 12 | H18: 3.799 | J18: 21 | K18: 2.086 | N18: 13 | O18: 75 | P18: 137 | Q18: 1.827 | R18: 2.398 | S18: 255
B19: Lower Threshold | C19: 0 | G19: 13 | H19: 2.398 | J19: 22 | K19: 2.08 | N19: 14 | O19: 100 | P19: 193 | Q19: 1.93 | R19: 3.379 | S19: 255
B20: Upper Threshold | C20: 130 | G20: 14 | H20: 3.379 | J20: 23 | K20: 2.074 | N20: 15 | O20: 68 | P20: 130 | Q20: 1.912 | R20: 2.276 | S20: 255
G21: 15 | H21: 2.276 | J21: 24 | K21: 2.069 | N21: 16 | O21: 74 | P21: 143 | Q21: 1.932 | R21: 2.504 | S21: 255
G22: 16 | H22: 2.504 | J22: 25 | K22: 2.064 | N22: 17 | O22: 86 | P22: 193 | Q22: 2.244 | R22: 3.379 | S22: 255
G23: 17 | H23: 3.379 | J23: 26 | K23: 2.06 | N23: 18 | O23: 66 | P23: 137 | Q23: 2.076 | R23: 2.398 | S23: 255
G24: 18 | H24: 2.398 | J24: 27 | K24: 2.056 | N24: 19 | O24: 64 | P24: 147 | Q24: 2.297 | R24: 2.574 | S24: 255
G25: 19 | H25: 2.574 | J25: 28 | K25: 2.052 | N25: 20 | O25: 83 | P25: 130 | Q25: 1.566 | R25: 2.276 | S25: 255
G26: 20 | H26: 2.276 | J26: 29 | K26: 2.048 | N26: 1 | O26: 58 | P26: 99 | Q26: 1.707 | R26: 1.941 | S26: 255
G27: 21 | H27: 1.941 | J27: 30 | K27: 2.045 | N27: 2 | O27: 96 | P27: 236 | Q27: 2.458 | R27: 4.627 | S27: 255
G28: 22 | H28: 4.627 | J28: 40 | K28: 2.02 | N28: 3 | O28: 61 | P28: 109 | Q28: 1.787 | R28: 2.137 | S28: 255
G29: 23 | H29: 2.137 | J29: 60 | K29: 2 | N29: 4 | O29: 56 | P29: 119 | Q29: 2.125 | R29: 2.333 | S29: 255
G30: 24 | H30: 2.333 | N30: 5 | O30: 64 | P30: 118 | Q30: 1.844 | R30: 2.314 | S30: 255
G31: 25 | H31: 2.314 | N31: 6 | O31: 66 | P31: 124 | Q31: 1.879 | R31: 2.431 | S31: 255
G32: 26 | H32: 2.431 | N32: 7 | O32: 99 | P32: 306 | Q32: 3.091 | R32: 6 | S32: 255
G33: 27 | H33: 6 | N33: 8 | O33: 59 | P33: 105 | Q33: 1.78 | R33: 2.059 | S33: 255
G34: 28 | H34: 2.059 | N34: 9 | O34: 77 | P34: 170 | Q34: 2.208 | R34: 3.333 | S34: 255
G35: 29 | H35: 3.333 | N35: 10 | O35: 62 | P35: 107 | Q35: 1.726 | R35: 2.098 | S35: 255
G36: 30 | H36: 2.098 | N36: 11 | O36: 74 | P36: 124 | Q36: 1.676 | R36: 2.431 | S36: 255
G37: 31 | H37: 2.431 | N37: 12 | O37: 107 | P37: 381 | Q37: 3.561 | R37: 7.471 | S37: 255
G38: 32 | H38: 7.471 | N38: 13 | O38: 61 | P38: 104 | Q38: 1.705 | R38: 2.039 | S38: 255
G39: 33 | H39: 2.039 | N39: 14 | O39: 101 | P39: 222 | Q39: 2.198 | R39: 4.353 | S39: 255
G40: 34 | H40: 4.353 | N40: 15 | O40: 105 | P40: 201 | Q40: 1.914 | R40: 3.941 | S40: 255
G41: 35 | H41: 3.941 | N41: 16 | O41: 86 | P41: 170 | Q41: 1.977 | R41: 3.333 | S41: 255
... G45: 39 | H45: 3.863 | N45: 20 | O45: 80 | P45: 213 | Q45: 2.663 | R45: 4.176 | S45: 255
G46: 40 | H46: 4.176

Sheet HVOF_APS_Al2O3_0100X
B1: Porosity Analysis of Thermal Spray Coatings
B2: Heriot-Watt University, Dubai Campus
B3: Porosity Analysis conducted using thresholding to isolate pores and voids, followd by a binary opening process to remove small features. Consult ASTM E2109 for more information.
B5: Specification Identification | C5: HVOF_APS_Al2O3_0100X | G5: Index | H5: Porosity
B6: Operator | C6: Vishakh Kumar | G6: i | H6: x_i | J6: Number of Samples (n) | K6: =MAX(G7:G31) -> 25 | N6: 1 | O6: 52 | P6: 87 | Q6: 1.673 | R6: 3.281 | S6: 255
B7: Date | C7: =TODAY() -> 45321 | G7: 1 | H7: 3.281 | J7: Confidence Interval Multipiers (t) | K7: =VLOOKUP(K6,confidence_95_multiplier122022[#All],2,FALSE) -> 2.064 | N7: 2 | O7: 40 | P7: 65 | Q7: 1.625 | R7: 2.451 | S7: 255
G8: 2 | H8: 2.451 | J8: Mean (x_bar) | K8: =AVERAGE(porosity_readings111921[x_i]) -> 3.02724 | N8: 3 | O8: 49 | P8: 99 | Q8: 2.02 | R8: 3.733 | S8: 255
B9: Magnification Used | C9: 1000 | G9: 3 | H9: 3.733 | J9: Standard Deviation (S) | K9: =_xlfn.STDEV.S(porosity_readings111921[x_i]) -> 1.1721469 | N9: 4 | O9: 54 | P9: 114 | Q9: 2.111 | R9: 4.299 | S9: 255
B10: Mean area % porosity | C10: =HVOF_APS_Al2O3_0100X!K8 -> 3.02724 | G10: 4 | H10: 4.299 | J10: 95% Confidence Interval (95% CI) | K10: =K9*K7/(SQRT(K6)) -> 0.48386224 | N10: 5 | O10: 40 | P10: 71 | Q10: 1.775 | R10: 2.677 | S10: 255
B11: Minimum area % porosity | C11: =HVOF_APS_Al2O3_0100X!K12 -> 1.584 | G11: 5 | H11: 2.677 | J11: 95% Relative Accuracy (%RA) | K11: =K10/K8 -> 0.1598361 | N11: 6 | O11: 42 | P11: 76 | Q11: 1.81 | R11: 2.866 | S11: 255
B12: Maximum area % porosity | C12: =HVOF_APS_Al2O3_0100X!K13 -> 7.391 | G12: 6 | H12: 2.866 | J12: Minimum (x_min) | K12: =MIN(porosity_readings111921[x_i]) -> 1.584 | N12: 7 | O12: 28 | P12: 42 | Q12: 1.5 | R12: 1.584 | S12: 255
B13: Standard Deviation | C13: =HVOF_APS_Al2O3_0100X!K9 -> 1.1721469 | G13: 7 | H13: 1.584 | J13: Maximum (x_max) | K13: =MAX(porosity_readings111921[x_i]) -> 7.391 | N13: 8 | O13: 44 | P13: 74 | Q13: 1.682 | R13: 2.79 | S13: 255
B14: 95% confidence interval | C14: =HVOF_APS_Al2O3_0100X!K10 -> 0.48386224 | G14: 8 | H14: 2.79 | N14: 9 | O14: 34 | P14: 54 | Q14: 1.588 | R14: 2.036 | S14: 255
B15: % Relative Accuracy value | C15: =HVOF_APS_Al2O3_0100X!K11 -> 0.1598361 | G15: 9 | H15: 2.036 | J15: 95% Confidence Interval Multipliers, t | N15: 10 | O15: 51 | P15: 80 | Q15: 1.569 | R15: 3.017 | S15: 255
B16: Number of fields measured | C16: =HVOF_APS_Al2O3_0100X!K6 -> 25 | G16: 10 | H16: 3.017 | J16: n | K16: t | N16: 11 | O16: 34 | P16: 64 | Q16: 1.882 | R16: 2.413 | S16: 255
G17: 11 | H17: 2.413 | J17: 20 | K17: 2.093 | N17: 12 | O17: 50 | P17: 86 | Q17: 1.72 | R17: 3.243 | S17: 255
B18: Gaussian Blur | C18: 0 | G18: 12 | H18: 3.243 | J18: 21 | K18: 2.086 | N18: 13 | O18: 33 | P18: 57 | Q18: 1.727 | R18: 2.149 | S18: 255
B19: Lower Threshold | C19: 0 | G19: 13 | H19: 2.149 | J19: 22 | K19: 2.08 | N19: 14 | O19: 39 | P19: 64 | Q19: 1.641 | R19: 2.413 | S19: 255
B20: Upper Threshold | C20: 114 | G20: 14 | H20: 2.413 | J20: 23 | K20: 2.074 | N20: 15 | O20: 47 | P20: 67 | Q20: 1.426 | R20: 2.526 | S20: 255
G21: 15 | H21: 2.526 | J21: 24 | K21: 2.069 | N21: 16 | O21: 35 | P21: 66 | Q21: 1.886 | R21: 2.489 | S21: 255
G22: 16 | H22: 2.489 | J22: 25 | K22: 2.064 | N22: 17 | O22: 41 | P22: 70 | Q22: 1.707 | R22: 2.64 | S22: 255
G23: 17 | H23: 2.64 | J23: 26 | K23: 2.06 | N23: 18 | O23: 40 | P23: 73 | Q23: 1.825 | R23: 2.753 | S23: 255
G24: 18 | H24: 2.753 | J24: 27 | K24: 2.056 | N24: 19 | O24: 44 | P24: 89 | Q24: 2.023 | R24: 3.356 | S24: 255
G25: 19 | H25: 3.356 | J25: 28 | K25: 2.052 | N25: 20 | O25: 67 | P25: 196 | Q25: 2.925 | R25: 7.391 | S25: 255
G26: 20 | H26: 7.391 | J26: 29 | K26: 2.048 | N26: 21 | O26: 40 | P26: 65 | Q26: 1.625 | R26: 2.451 | S26: 255
G27: 21 | H27: 2.451 | J27: 30 | K27: 2.045 | N27: 22 | O27: 35 | P27: 54 | Q27: 1.543 | R27: 2.036 | S27: 255
G28: 22 | H28: 2.036 | J28: 40 | K28: 2.02 | N28: 23 | O28: 60 | P28: 90 | Q28: 1.5 | R28: 3.394 | S28: 255
G29: 23 | H29: 3.394 | J29: 60 | K29: 2 | N29: 24 | O29: 42 | P29: 70 | Q29: 1.667 | R29: 2.64 | S29: 255
G30: 24 | H30: 2.64 | N30: 25 | O30: 56 | P30: 134 | Q30: 2.393 | R30: 5.053 | S30: 255
G31: 25 | H31: 5.053

Sheet HVOF_APS_Al2O3_0250X (with crac
B1: Porosity Analysis of Thermal Spray Coatings
B2: Heriot-Watt University, Dubai Campus
B3: Porosity Analysis conducted using thresholding to isolate pores and voids, followd by a binary opening process to remove small features. Consult ASTM E2109 for more information.
B5: Specification Identification | C5: HVOF_APS_Al2O3_0250X | G5: Index | H5: Porosity
B6: Operator | C6: Vishakh Kumar | G6: i | H6: x_i | J6: Number of Samples (n) | K6: =MAX(G7:G46) -> 40 | N6: 1 | O6: 294 | P6: 722 | Q6: 2.456 | R6: 8.231 | S6: 255
B7: Date | C7: =TODAY() -> 45321 | G7: 1 | H7: 8.231 | J7: Confidence Interval Multipiers (t) | K7: =VLOOKUP(K6,confidence_95_multiplier1220222448[#All],2,FALSE) -> 2.02 | N7: 2 | O7: 230 | P7: 540 | Q7: 2.348 | R7: 6.156 | S7: 255
G8: 2 | H8: 6.156 | J8: Mean (x_bar) | K8: =AVERAGE(porosity_readings1119212347[x_i]) -> 6.44615 | N8: 3 | O8: 280 | P8: 640 | Q8: 2.286 | R8: 7.296 | S8: 255
B9: Magnification Used | C9: 1000 | G9: 3 | H9: 7.296 | J9: Standard Deviation (S) | K9: =_xlfn.STDEV.S(porosity_readings1119212347[x_i]) -> 0.70411998 | N9: 4 | O9: 263 | P9: 636 | Q9: 2.418 | R9: 7.25 | S9: 255
B10: Mean area % porosity | C10: ='HVOF_APS_Al2O3_0250X (with crac'!K8 -> 6.44615 | G10: 4 | H10: 7.25 | J10: 95% Confidence Interval (95% CI) | K10: =K9*K7/(SQRT(K6)) -> 0.22488891 | N10: 5 | O10: 264 | P10: 595 | Q10: 2.254 | R10: 6.783 | S10: 255
B11: Minimum area % porosity | C11: ='HVOF_APS_Al2O3_0250X (with crac'!K12 -> 5.187 | G11: 5 | H11: 6.783 | J11: 95% Relative Accuracy (%RA) | K11: =K10/K8 -> 0.034887322 | N11: 6 | O11: 240 | P11: 520 | Q11: 2.167 | R11: 5.928 | S11: 255
B12: Maximum area % porosity | C12: ='HVOF_APS_Al2O3_0250X (with crac'!K13 -> 8.311 | G12: 6 | H12: 5.928 | J12: Minimum (x_min) | K12: =MIN(porosity_readings1119212347[x_i]) -> 5.187 | N12: 7 | O12: 262 | P12: 619 | Q12: 2.363 | R12: 7.057 | S12: 255
B13: Standard Deviation | C13: ='HVOF_APS_Al2O3_0250X (with crac'!K9 -> 0.70411998 | G13: 7 | H13: 7.057 | J13: Maximum (x_max) | K13: =MAX(porosity_readings1119212347[x_i]) -> 8.311 | N13: 8 | O13: 252 | P13: 565 | Q13: 2.242 | R13: 6.441 | S13: 255
B14: 95% confidence interval | C14: ='HVOF_APS_Al2O3_0250X (with crac'!K10 -> 0.22488891 | G14: 8 | H14: 6.441 | N14: 9 | O14: 240 | P14: 548 | Q14: 2.283 | R14: 6.247 | S14: 255
B15: % Relative Accuracy value | C15: ='HVOF_APS_Al2O3_0250X (with crac'!K11 -> 0.034887322 | G15: 9 | H15: 6.247 | J15: 95% Confidence Interval Multipliers, t | N15: 10 | O15: 240 | P15: 494 | Q15: 2.058 | R15: 5.632 | S15: 255
B16: Number of fields measured | C16: ='HVOF_APS_Al2O3_0250X (with crac'!K6 -> 40 | G16: 10 | H16: 5.632 | J16: n | K16: t | N16: 11 | O16: 243 | P16: 619 | Q16: 2.547 | R16: 7.057 | S16: 255
G17: 11 | H17: 7.057 | J17: 20 | K17: 2.093 | N17: 12 | O17: 236 | P17: 572 | Q17: 2.424 | R17: 6.521 | S17: 255
B18: Gaussian Blur | C18: 0 | G18: 12 | H18: 6.521 | J18: 21 | K18: 2.086 | N18: 13 | O18: 221 | P18: 506 | Q18: 2.29 | R18: 5.768 | S18: 255
B19: Lower Threshold | C19: 0 | G19: 13 | H19: 5.768 | J19: 22 | K19: 2.08 | N19: 14 | O19: 221 | P19: 532 | Q19: 2.407 | R19: 6.065 | S19: 255
B20: Upper Threshold | C20: 85 | G20: 14 | H20: 6.065 | J20: 23 | K20: 2.074 | N20: 15 | O20: 238 | P20: 491 | Q20: 2.063 | R20: 5.597 | S20: 255
G21: 15 | H21: 5.597 | J21: 24 | K21: 2.069 | N21: 16 | O21: 275 | P21: 627 | Q21: 2.28 | R21: 7.148 | S21: 255
G22: 16 | H22: 7.148 | J22: 25 | K22: 2.064 | N22: 17 | O22: 256 | P22: 594 | Q22: 2.32 | R22: 6.772 | S22: 255
G23: 17 | H23: 6.772 | J23: 26 | K23: 2.06 | N23: 18 | O23: 260 | P23: 640 | Q23: 2.462 | R23: 7.296 | S23: 255
G24: 18 | H24: 7.296 | J24: 27 | K24: 2.056 | N24: 19 | O24: 235 | P24: 521 | Q24: 2.217 | R24: 5.939 | S24: 255
G25: 19 | H25: 5.939 | J25: 28 | K25: 2.052 | N25: 20 | O25: 245 | P25: 557 | Q25: 2.273 | R25: 6.35 | S25: 255
G26: 20 | H26: 6.35 | J26: 29 | K26: 2.048 | N26: 1 | O26: 260 | P26: 583 | Q26: 2.242 | R26: 6.646 | S26: 255
G27: 21 | H27: 6.646 | J27: 30 | K27: 2.045 | N27: 2 | O27: 291 | P27: 729 | Q27: 2.505 | R27: 8.311 | S27: 255
G28: 22 | H28: 8.311 | J28: 40 | K28: 2.02 | N28: 3 | O28: 268 | P28: 652 | Q28: 2.433 | R28: 7.433 | S28: 255
G29: 23 | H29: 7.433 | J29: 60 | K29: 2 | N29: 4 | O29: 254 | P29: 551 | Q29: 2.169 | R29: 6.281 | S29: 255
G30: 24 | H30: 6.281 | N30: 5 | O30: 253 | P30: 522 | Q30: 2.063 | R30: 5.951 | S30: 255
G31: 25 | H31: 5.951 | N31: 6 | O31: 252 | P31: 570 | Q31: 2.262 | R31: 6.498 | S31: 255
G32: 26 | H32: 6.498 | N32: 7 | O32: 241 | P32: 587 | Q32: 2.436 | R32: 6.692 | S32: 255
G33: 27 | H33: 6.692 | N33: 8 | O33: 240 | P33: 561 | Q33: 2.337 | R33: 6.395 | S33: 255
G34: 28 | H34: 6.395 | N34: 9 | O34: 221 | P34: 455 | Q34: 2.059 | R34: 5.187 | S34: 255
G35: 29 | H35: 5.187 | N35: 10 | O35: 216 | P35: 514 | Q35: 2.38 | R35: 5.86 | S35: 255
G36: 30 | H36: 5.86 | N36: 11 | O36: 228 | P36: 591 | Q36: 2.592 | R36: 6.737 | S36: 255
G37: 31 | H37: 6.737 | N37: 12 | O37: 259 | P37: 529 | Q37: 2.042 | R37: 6.031 | S37: 255
G38: 32 | H38: 6.031 | N38: 13 | O38: 242 | P38: 512 | Q38: 2.116 | R38: 5.837 | S38: 255
G39: 33 | H39: 5.837 | N39: 14 | O39: 225 | P39: 511 | Q39: 2.271 | R39: 5.825 | S39: 255
G40: 34 | H40: 5.825 | N40: 15 | O40: 240 | P40: 604 | Q40: 2.517 | R40: 6.886 | S40: 255
G41: 35 | H41: 6.886 | N41: 16 | O41: 276 | P41: 580 | Q41: 2.101 | R41: 6.612 | S41: 255
... G45: 39 | H45: 5.506 | N45: 20 | O45: 248 | P45: 513 | Q45: 2.069 | R45: 5.848 | S45: 255
G46: 40 | H46: 5.848

Sheet HVOF_APS_Al2O3_0250X
B1: Porosity Analysis of Thermal Spray Coatings
B2: Heriot-Watt University, Dubai Campus
B3: Porosity Analysis conducted using thresholding to isolate pores and voids, followd by a binary opening process to remove small features. Consult ASTM E2109 for more information.
B5: Specification Identification | C5: HVOF_APS_Al2O3_0250X | G5: Index | H5: Porosity
B6: Operator | C6: Vishakh Kumar | G6: i | H6: x_i | J6: Number of Samples (n) | K6: =MAX(G7:G66) -> 60 | N6: 1 | O6: 296 | P6: 728 | Q6: 2.459 | R6: 8.111 | S6: 255
B7: Date | C7: =TODAY() -> 45321 | G7: 1 | H7: 8.111 | J7: Confidence Interval Multipiers (t) | K7: =VLOOKUP(K6,confidence_95_multiplier12202224[#All],2,FALSE) -> 2 | N7: 2 | O7: 231 | P7: 552 | Q7: 2.39 | R7: 6.15 | S7: 255
G8: 2 | H8: 6.15 | J8: Mean (x_bar) | K8: =AVERAGE(porosity_readings11192123[x_i]) -> 6.2969667 | N8: 3 | O8: 284 | P8: 725 | Q8: 2.553 | R8: 8.077 | S8: 255
B9: Magnification Used | C9: 1000 | G9: 3 | H9: 8.077 | J9: Standard Deviation (S) | K9: =_xlfn.STDEV.S(porosity_readings11192123[x_i]) -> 0.76775961 | N9: 4 | O9: 272 | P9: 688 | Q9: 2.529 | R9: 7.665 | S9: 255
B10: Mean area % porosity | C10: =HVOF_APS_Al2O3_0250X!K8 -> 6.2969667 | G10: 4 | H10: 7.665 | J10: 95% Confidence Interval (95% CI) | K10: =K9*K7/(SQRT(K6)) -> 0.19823468 | N10: 5 | O10: 268 | P10: 676 | Q10: 2.522 | R10: 7.531 | S10: 255
B11: Minimum area % porosity | C11: =HVOF_APS_Al2O3_0250X!K12 -> 4.447 | G11: 5 | H11: 7.531 | J11: 95% Relative Accuracy (%RA) | K11: =K10/K8 -> 0.031480979 | N11: 6 | O11: 248 | P11: 527 | Q11: 2.125 | R11: 5.871 | S11: 255
B12: Maximum area % porosity | C12: =HVOF_APS_Al2O3_0250X!K13 -> 8.459 | G12: 6 | H12: 5.871 | J12: Minimum (x_min) | K12: =MIN(porosity_readings11192123[x_i]) -> 4.447 | N12: 7 | O12: 261 | P12: 603 | Q12: 2.31 | R12: 6.718 | S12: 255
B13: Standard Deviation | C13: =HVOF_APS_Al2O3_0250X!K9 -> 0.76775961 | G13: 7 | H13: 6.718 | J13: Maximum (x_max) | K13: =MAX(porosity_readings11192123[x_i]) -> 8.459 | N13: 8 | O13: 267 | P13: 582 | Q13: 2.18 | R13: 6.484 | S13: 255
B14: 95% confidence interval | C14: =HVOF_APS_Al2O3_0250X!K10 -> 0.19823468 | G14: 8 | H14: 6.484 | N14: 9 | O14: 244 | P14: 575 | Q14: 2.357 | R14: 6.406 | S14: 255
B15: % Relative Accuracy value | C15: =HVOF_APS_Al2O3_0250X!K11 -> 0.031480979 | G15: 9 | H15: 6.406 | J15: 95% Confidence Interval Multipliers, t | N15: 10 | O15: 239 | P15: 485 | Q15: 2.029 | R15: 5.403 | S15: 255
B16: Number of fields measured | C16: =HVOF_APS_Al2O3_0250X!K6 -> 60 | G16: 10 | H16: 5.403 | J16: n | K16: t | N16: 11 | O16: 250 | P16: 629 | Q16: 2.516 | R16: 7.008 | S16: 255
G17: 11 | H17: 7.008 | J17: 20 | K17: 2.093 | N17: 12 | O17: 243 | P17: 595 | Q17: 2.449 | R17: 6.629 | S17: 255
B18: Gaussian Blur | C18: 0 | G18: 12 | H18: 6.629 | J18: 21 | K18: 2.086 | N18: 13 | O18: 229 | P18: 519 | Q18: 2.266 | R18: 5.782 | S18: 255
B19: Lower Threshold | C19: 0 | G19: 13 | H19: 5.782 | J19: 22 | K19: 2.08 | N19: 14 | O19: 229 | P19: 535 | Q19: 2.336 | R19: 5.96 | S19: 255
B20: Upper Threshold | C20: 85 | G20: 14 | H20: 5.96 | J20: 23 | K20: 2.074 | N20: 15 | O20: 248 | P20: 516 | Q20: 2.081 | R20: 5.749 | S20: 255
G21: 15 | H21: 5.749 | J21: 24 | K21: 2.069 | N21: 16 | O21: 288 | P21: 665 | Q21: 2.309 | R21: 7.409 | S21: 255
G22: 16 | H22: 7.409 | J22: 25 | K22: 2.064 | N22: 17 | O22: 264 | P22: 618 | Q22: 2.341 | R22: 6.885 | S22: 255
G23: 17 | H23: 6.885 | J23: 26 | K23: 2.06 | N23: 18 | O23: 263 | P23: 643 | Q23: 2.445 | R23: 7.164 | S23: 255
G24: 18 | H24: 7.164 | J24: 27 | K24: 2.056 | N24: 19 | O24: 235 | P24: 529 | Q24: 2.251 | R24: 5.893 | S24: 255
G25: 19 | H25: 5.893 | J25: 28 | K25: 2.052 | N25: 20 | O25: 244 | P25: 560 | Q25: 2.295 | R25: 6.239 | S25: 255
G26: 20 | H26: 6.239 | J26: 29 | K26: 2.048 | N26: 1 | O26: 261 | P26: 585 | Q26: 2.241 | R26: 6.669 | S26: 255
G27: 21 | H27: 6.669 | J27: 30 | K27: 2.045 | N27: 2 | O27: 301 | P27: 742 | Q27: 2.465 | R27: 8.459 | S27: 255
G28: 22 | H28: 8.459 | J28: 40 | K28: 2.02 | N28: 3 | O28: 265 | P28: 647 | Q28: 2.442 | R28: 7.376 | S28: 255
G29: 23 | H29: 7.376 | J29: 60 | K29: 2 | N29: 4 | O29: 259 | P29: 562 | Q29: 2.17 | R29: 6.407 | S29: 255
G30: 24 | H30: 6.407 | N30: 5 | O30: 254 | P30: 528 | Q30: 2.079 | R30: 6.019 | S30: 255
G31: 25 | H31: 6.019 | N31: 6 | O31: 255 | P31: 572 | Q31: 2.243 | R31: 6.521 | S31: 255
G32: 26 | H32: 6.521 | N32: 7 | O32: 240 | P32: 588 | Q32: 2.45 | R32: 6.703 | S32: 255
G33: 27 | H33: 6.703 | N33: 8 | O33: 241 | P33: 562 | Q33: 2.332 | R33: 6.407 | S33: 255
G34: 28 | H34: 6.407 | N34: 9 | O34: 222 | P34: 453 | Q34: 2.041 | R34: 5.164 | S34: 255
G35: 29 | H35: 5.164 | N35: 10 | O35: 223 | P35: 518 | Q35: 2.323 | R35: 5.905 | S35: 255
G36: 30 | H36: 5.905 | N36: 11 | O36: 225 | P36: 588 | Q36: 2.613 | R36: 6.703 | S36: 255
G37: 31 | H37: 6.703 | N37: 12 | O37: 261 | P37: 525 | Q37: 2.011 | R37: 5.985 | S37: 255
G38: 32 | H38: 5.985 | N38: 13 | O38: 241 | P38: 516 | Q38: 2.141 | R38: 5.882 | S38: 255
G39: 33 | H39: 5.882 | N39: 14 | O39: 228 | P39: 519 | Q39: 2.276 | R39: 5.917 | S39: 255
G40: 34 | H40: 5.917 | N40: 15 | O40: 236 | P40: 604 | Q40: 2.559 | R40: 6.886 | S40: 255
G41: 35 | H41: 6.886 | N41: 16 | O41: 278 | P41: 584 | Q41: 2.101 | R41: 6.658 | S41: 255
... G65: 59 | H65: 6.221 | N65: 20 | O65: 238 | P65: 554 | Q65: 2.328 | R65: 6.466 | S65: 255
G66: 60 | H66: 6.466

Sheet HVOF_APS_Al2O3_1000X
B1: Porosity Analysis of Thermal Spray Coatings
B2: Heriot-Watt University, Dubai Campus
B3: Porosity Analysis conducted using thresholding to isolate pores and voids, followd by a binary opening process to remove small features. Consult ASTM E2109 for more information.
B5: Specification Identification | C5: HVOF_APS_Al2O3_1000X | G5: Index | H5: Porosity
B6: Operator | C6: Vishakh Kumar | G6: i | H6: x_i | J6: Number of Samples (n) | K6: =MAX(G7:G26) -> 20 | N6: 1 | O6: 137 | P6: 2665 | Q6: 19.453 | R6: 7.551 | S6: 255
B7: Date | C7: =TODAY() -> 45321 | G7: 1 | H7: 7.551 | J7: Confidence Interval Multipiers (t) | K7: =VLOOKUP(K6,confidence_95_multiplier1220222426[#All],2,FALSE) -> 2.093 | N7: 2 | O7: 125 | P7: 2412 | Q7: 19.296 | R7: 6.834 | S7: 255
G8: 2 | H8: 6.834 | J8: Mean (x_bar) | K8: =AVERAGE(porosity_readings1119212325[x_i]) -> 5.971 | N8: 3 | O8: 128 | P8: 1899 | Q8: 14.836 | R8: 5.381 | S8: 255
B9: Magnification Used | C9: 1000 | G9: 3 | H9: 5.381 | J9: Standard Deviation (S) | K9: =_xlfn.STDEV.S(porosity_readings1119212325[x_i]) -> 1.0339463 | N9: 4 | O9: 133 | P9: 2138 | Q9: 16.075 | R9: 6.058 | S9: 255
B10: Mean area % porosity | C10: =HVOF_APS_Al2O3_1000X!K8 -> 5.971 | G10: 4 | H10: 6.058 | J10: 95% Confidence Interval (95% CI) | K10: =K9*K7/(SQRT(K6)) -> 0.48389623 | N10: 5 | O10: 125 | P10: 2339 | Q10: 18.712 | R10: 6.628 | S10: 255
B11: Minimum area % porosity | C11: =HVOF_APS_Al2O3_1000X!K12 -> 3.389 | G11: 5 | H11: 6.628 | J11: 95% Relative Accuracy (%RA) | K11: =K10/K8 -> 0.081041069 | N11: 6 | O11: 122 | P11: 1836 | Q11: 15.049 | R11: 5.202 | S11: 255
B12: Maximum area % porosity | C12: =HVOF_APS_Al2O3_1000X!K13 -> 7.551 | G12: 6 | H12: 5.202 | J12: Minimum (x_min) | K12: =MIN(porosity_readings1119212325[x_i]) -> 3.389 | N12: 7 | O12: 133 | P12: 2339 | Q12: 17.586 | R12: 6.628 | S12: 255
B13: Standard Deviation | C13: =HVOF_APS_Al2O3_1000X!K9 -> 1.0339463 | G13: 7 | H13: 6.628 | J13: Maximum (x_max) | K13: =MAX(porosity_readings1119212325[x_i]) -> 7.551 | N13: 8 | O13: 126 | P13: 1590 | Q13: 12.619 | R13: 4.505 | S13: 255
B14: 95% confidence interval | C14: =HVOF_APS_Al2O3_1000X!K10 -> 0.48389623 | G14: 8 | H14: 4.505 | N14: 9 | O14: 114 | P14: 2316 | Q14: 20.316 | R14: 6.562 | S14: 255
B15: % Relative Accuracy value | C15: =HVOF_APS_Al2O3_1000X!K11 -> 0.081041069 | G15: 9 | H15: 6.562 | J15: 95% Confidence Interval Multipliers, t | N15: 10 | O15: 140 | P15: 2658 | Q15: 18.986 | R15: 7.531 | S15: 255
B16: Number of fields measured | C16: =HVOF_APS_Al2O3_1000X!K6 -> 20 | G16: 10 | H16: 7.531 | J16: n | K16: t | N16: 11 | O16: 166 | P16: 2252 | Q16: 13.566 | R16: 6.381 | S16: 255
G17: 11 | H17: 6.381 | J17: 20 | K17: 2.093 | N17: 12 | O17: 134 | P17: 2013 | Q17: 15.022 | R17: 5.704 | S17: 255
B18: Gaussian Blur | C18: 0 | G18: 12 | H18: 5.704 | J18: 21 | K18: 2.086 | N18: 13 | O18: 130 | P18: 2080 | Q18: 16 | R18: 5.894 | S18: 255
B19: Lower Threshold | C19: 0 | G19: 13 | H19: 5.894 | J19: 22 | K19: 2.08 | N19: 14 | O19: 133 | P19: 1793 | Q19: 13.481 | R19: 5.08 | S19: 255
B20: Upper Threshold | C20: 148 | G20: 14 | H20: 5.08 | J20: 23 | K20: 2.074 | N20: 15 | O20: 129 | P20: 1706 | Q20: 13.225 | R20: 4.834 | S20: 255
G21: 15 | H21: 4.834 | J21: 24 | K21: 2.069 | N21: 16 | O21: 109 | P21: 1196 | Q21: 10.972 | R21: 3.389 | S21: 255
G22: 16 | H22: 3.389 | J22: 25 | K22: 2.064 | N22: 17 | O22: 145 | P22: 2044 | Q22: 14.097 | R22: 5.792 | S22: 255
G23: 17 | H23: 5.792 | J23: 26 | K23: 2.06 | N23: 18 | O23: 115 | P23: 2211 | Q23: 19.226 | R23: 6.265 | S23: 255
G24: 18 | H24: 6.265 | J24: 27 | K24: 2.056 | N24: 19 | O24: 163 | P24: 2491 | Q24: 15.282 | R24: 7.058 | S24: 255
G25: 19 | H25: 7.058 | J25: 28 | K25: 2.052 | N25: 20 | O25: 155 | P25: 2168 | Q25: 13.987 | R25: 6.143 | S25: 255
G26: 20 | H26: 6.143 | J26: 29 | K26: 2.048
J27: 30 | K27: 2.045
J28: 40 | K28: 2.02
J29: 60 | K29: 2

Sheet HIP_HVOF_APS_Al2O3_0250X
B1: Porosity Analysis of Thermal Spray Coatings
B2: Heriot-Watt University, Dubai Campus
B3: Porosity Analysis conducted using thresholding to isolate pores and voids, followd by a binary opening process to remove small features. Consult ASTM E2109 for more information.
B5: Specification Identification | C5: HIP_HVOF_APS_Al2O3_0250X | G5: Index | H5: Porosity
B6: Operator | C6: Vishakh Kumar | G6: i | H6: x_i | J6: Number of Samples (n) | K6: =MAX(G7:G66) -> 60 | N6: 1 | O6: 144 | P6: 299 | Q6: 2.076 | R6: 5.583 | S6: 255
B7: Date | C7: =TODAY() -> 45321 | G7: 1 | H7: 5.583 | J7: Confidence Interval Multipiers (t) | K7: =VLOOKUP(K6,confidence_95_multiplier1220222428[#All],2,FALSE) -> 2 | N7: 2 | O7: 146 | P7: 295 | Q7: 2.021 | R7: 5.508 | S7: 255
G8: 2 | H8: 5.508 | J8: Mean (x_bar) | K8: =AVERAGE(porosity_readings1119212327[x_i]) -> 5.9043333 | N8: 3 | O8: 134 | P8: 305 | Q8: 2.276 | R8: 5.695 | S8: 255
B9: Magnification Used | C9: 1000 | G9: 3 | H9: 5.695 | J9: Standard Deviation (S) | K9: =_xlfn.STDEV.S(porosity_readings1119212327[x_i]) -> 0.95106047 | N9: 4 | O9: 141 | P9: 302 | Q9: 2.142 | R9: 5.639 | S9: 255
B10: Mean area % porosity | C10: =HIP_HVOF_APS_Al2O3_0250X!K8 -> 5.9043333 | G10: 4 | H10: 5.639 | J10: 95% Confidence Interval (95% CI) | K10: =K9*K7/(SQRT(K6)) -> 0.24556276 | N10: 5 | O10: 145 | P10: 293 | Q10: 2.021 | R10: 5.471 | S10: 255
B11: Minimum area % porosity | C11: =HIP_HVOF_APS_Al2O3_0250X!K12 -> 3.535 | G11: 5 | H11: 5.471 | J11: 95% Relative Accuracy (%RA) | K11: =K10/K8 -> 0.04159026 | N11: 6 | O11: 145 | P11: 241 | Q11: 1.662 | R11: 4.5 | S11: 255
B12: Maximum area % porosity | C12: =HIP_HVOF_APS_Al2O3_0250X!K13 -> 8.028 | G12: 6 | H12: 4.5 | J12: Minimum (x_min) | K12: =MIN(porosity_readings1119212327[x_i]) -> 3.535 | N12: 7 | O12: 143 | P12: 274 | Q12: 1.916 | R12: 5.116 | S12: 255
B13: Standard Deviation | C13: =HIP_HVOF_APS_Al2O3_0250X!K9 -> 0.95106047 | G13: 7 | H13: 5.116 | J13: Maximum (x_max) | K13: =MAX(porosity_readings1119212327[x_i]) -> 8.028 | N13: 8 | O13: 127 | P13: 321 | Q13: 2.528 | R13: 5.993 | S13: 255
B14: 95% confidence interval | C14: =HIP_HVOF_APS_Al2O3_0250X!K10 -> 0.24556276 | G14: 8 | H14: 5.993 | N14: 9 | O14: 144 | P14: 357 | Q14: 2.479 | R14: 6.665 | S14: 255
B15: % Relative Accuracy value | C15: =HIP_HVOF_APS_Al2O3_0250X!K11 -> 0.04159026 | G15: 9 | H15: 6.665 | J15: 95% Confidence Interval Multipliers, t | N15: 10 | O15: 131 | P15: 318 | Q15: 2.427 | R15: 5.937 | S15: 255
B16: Number of fields measured | C16: =HIP_HVOF_APS_Al2O3_0250X!K6 -> 60 | G16: 10 | H16: 5.937 | J16: n | K16: t | N16: 11 | O16: 151 | P16: 327 | Q16: 2.166 | R16: 6.105 | S16: 255
G17: 11 | H17: 6.105 | J17: 20 | K17: 2.093 | N17: 12 | O17: 140 | P17: 273 | Q17: 1.95 | R17: 5.097 | S17: 255
B18: Gaussian Blur | C18: 0 | G18: 12 | H18: 5.097 | J18: 21 | K18: 2.086 | N18: 13 | O18: 138 | P18: 288 | Q18: 2.087 | R18: 5.377 | S18: 255
B19: Lower Threshold | C19: 0 | G19: 13 | H19: 5.377 | J19: 22 | K19: 2.08 | N19: 14 | O19: 130 | P19: 302 | Q19: 2.323 | R19: 5.639 | S19: 255
B20: Upper Threshold | C20: 113 | G20: 14 | H20: 5.639 | J20: 23 | K20: 2.074 | N20: 15 | O20: 126 | P20: 430 | Q20: 3.413 | R20: 8.028 | S20: 255
G21: 15 | H21: 8.028 | J21: 24 | K21: 2.069 | N21: 16 | O21: 133 | P21: 240 | Q21: 1.805 | R21: 4.481 | S21: 255
G22: 16 | H22: 4.481 | J22: 25 | K22: 2.064 | N22: 17 | O22: 151 | P22: 259 | Q22: 1.715 | R22: 4.836 | S22: 255
G23: 17 | H23: 4.836 | J23: 26 | K23: 2.06 | N23: 18 | O23: 127 | P23: 301 | Q23: 2.37 | R23: 5.62 | S23: 255
G24: 18 | H24: 5.62 | J24: 27 | K24: 2.056 | N24: 19 | O24: 156 | P24: 388 | Q24: 2.487 | R24: 7.244 | S24: 255
G25: 19 | H25: 7.244 | J25: 28 | K25: 2.052 | N25: 20 | O25: 136 | P25: 324 | Q25: 2.382 | R25: 6.049 | S25: 255
G26: 20 | H26: 6.049 | J26: 29 | K26: 2.048 | N26: 21 | O26: 155 | P26: 303 | Q26: 1.955 | R26: 5.657 | S26: 255
G27: 21 | H27: 5.657 | J27: 30 | K27: 2.045 | N27: 22 | O27: 145 | P27: 324 | Q27: 2.234 | R27: 6.049 | S27: 255
G28: 22 | H28: 6.049 | J28: 40 | K28: 2.02 | N28: 23 | O28: 144 | P28: 313 | Q28: 2.174 | R28: 5.844 | S28: 255
G29: 23 | H29: 5.844 | J29: 60 | K29: 2 | N29: 24 | O29: 151 | P29: 376 | Q29: 2.49 | R29: 7.02 | S29: 255
G30: 24 | H30: 7.02 | N30: 25 | O30: 134 | P30: 390 | Q30: 2.91 | R30: 7.282 | S30: 255
G31: 25 | H31: 7.282 | N31: 1 | O31: 201 | P31: 445 | Q31: 2.214 | R31: 4.482 | S31: 255
G32: 26 | H32: 4.482 | N32: 2 | O32: 212 | P32: 458 | Q32: 2.16 | R32: 4.613 | S32: 255
G33: 27 | H33: 4.613 | N33: 3 | O33: 253 | P33: 584 | Q33: 2.308 | R33: 5.882 | S33: 255
G34: 28 | H34: 5.882 | N34: 4 | O34: 269 | P34: 598 | Q34: 2.223 | R34: 6.023 | S34: 255
G35: 29 | H35: 6.023 | N35: 5 | O35: 264 | P35: 617 | Q35: 2.337 | R35: 6.215 | S35: 255
G36: 30 | H36: 6.215 | N36: 6 | O36: 208 | P36: 456 | Q36: 2.192 | R36: 4.593 | S36: 255
G37: 31 | H37: 4.593 | N37: 7 | O37: 212 | P37: 479 | Q37: 2.259 | R37: 4.825 | S37: 255
G38: 32 | H38: 4.825 | N38: 8 | O38: 207 | P38: 413 | Q38: 1.995 | R38: 4.16 | S38: 255
G39: 33 | H39: 4.16 | N39: 9 | O39: 214 | P39: 546 | Q39: 2.551 | R39: 5.5 | S39: 255
G40: 34 | H40: 5.5 | N40: 10 | O40: 246 | P40: 595 | Q40: 2.419 | R40: 5.993 | S40: 255
G41: 35 | H41: 5.993 | N41: 11 | O41: 233 | P41: 619 | Q41: 2.657 | R41: 6.235 | S41: 255
... G65: 59 | H65: 6.003 | N65: 35 | O65: 234 | P65: 679 | Q65: 2.902 | R65: 6.839 | S65: 255
G66: 60 | H66: 6.839

Sheet HIP_HVOF_APS_Al2O3_1000X
B1: Porosity Analysis of Thermal Spray Coatings
B2: Heriot-Watt University, Dubai Campus
B3: Porosity Analysis conducted using thresholding to isolate pores and voids, followd by a binary opening process to remove small features. Consult ASTM E2109 for more information.
B5: Specification Identification | C5: HIP_HVOF_APS_Al2O3_1000X | G5: Index | H5: Porosity
B6: Operator | C6: Vishakh Kumar | G6: i | H6: x_i | J6: Number of Samples (n) | K6: =MAX(G7:G66) -> 60 | N6: 1 | O6: 144 | P6: 299 | Q6: 2.076 | R6: 5.583 | S6: 255
B7: Date | C7: =TODAY() -> 45321 | G7: 1 | H7: 5.583 | J7: Confidence Interval Multipiers (t) | K7: =VLOOKUP(K6,confidence_95_multiplier122022242830[#All],2,FALSE) -> 2 | N7: 2 | O7: 146 | P7: 295 | Q7: 2.021 | R7: 5.508 | S7: 255
G8: 2 | H8: 5.508 | J8: Mean (x_bar) | K8: =AVERAGE(porosity_readings111921232729[x_i]) -> 5.9043333 | N8: 3 | O8: 134 | P8: 305 | Q8: 2.276 | R8: 5.695 | S8: 255
B9: Magnification Used | C9: 1000 | G9: 3 | H9: 5.695 | J9: Standard Deviation (S) | K9: =_xlfn.STDEV.S(porosity_readings111921232729[x_i]) -> 0.95106047 | N9: 4 | O9: 141 | P9: 302 | Q9: 2.142 | R9: 5.639 | S9: 255
B10: Mean area % porosity | C10: =HIP_HVOF_APS_Al2O3_1000X!K8 -> 5.9043333 | G10: 4 | H10: 5.639 | J10: 95% Confidence Interval (95% CI) | K10: =K9*K7/(SQRT(K6)) -> 0.24556276 | N10: 5 | O10: 145 | P10: 293 | Q10: 2.021 | R10: 5.471 | S10: 255
B11: Minimum area % porosity | C11: =HIP_HVOF_APS_Al2O3_1000X!K12 -> 3.535 | G11: 5 | H11: 5.471 | J11: 95% Relative Accuracy (%RA) | K11: =K10/K8 -> 0.04159026 | N11: 6 | O11: 145 | P11: 241 | Q11: 1.662 | R11: 4.5 | S11: 255
B12: Maximum area % porosity | C12: =HIP_HVOF_APS_Al2O3_1000X!K13 -> 8.028 | G12: 6 | H12: 4.5 | J12: Minimum (x_min) | K12: =MIN(porosity_readings111921232729[x_i]) -> 3.535 | N12: 7 | O12: 143 | P12: 274 | Q12: 1.916 | R12: 5.116 | S12: 255
B13: Standard Deviation | C13: =HIP_HVOF_APS_Al2O3_1000X!K9 -> 0.95106047 | G13: 7 | H13: 5.116 | J13: Maximum (x_max) | K13: =MAX(porosity_readings111921232729[x_i]) -> 8.028 | N13: 8 | O13: 127 | P13: 321 | Q13: 2.528 | R13: 5.993 | S13: 255
B14: 95% confidence interval | C14: =HIP_HVOF_APS_Al2O3_1000X!K10 -> 0.24556276 | G14: 8 | H14: 5.993 | N14: 9 | O14: 144 | P14: 357 | Q14: 2.479 | R14: 6.665 | S14: 255
B15: % Relative Accuracy value | C15: =HIP_HVOF_APS_Al2O3_1000X!K11 -> 0.04159026 | G15: 9 | H15: 6.665 | J15: 95% Confidence Interval Multipliers, t | N15: 10 | O15: 131 | P15: 318 | Q15: 2.427 | R15: 5.937 | S15: 255
B16: Number of fields measured | C16: =HIP_HVOF_APS_Al2O3_1000X!K6 -> 60 | G16: 10 | H16: 5.937 | J16: n | K16: t | N16: 11 | O16: 151 | P16: 327 | Q16: 2.166 | R16: 6.105 | S16: 255
G17: 11 | H17: 6.105 | J17: 20 | K17: 2.093 | N17: 12 | O17: 140 | P17: 273 | Q17: 1.95 | R17: 5.097 | S17: 255
B18: Gaussian Blur | C18: 0 | G18: 12 | H18: 5.097 | J18: 21 | K18: 2.086 | N18: 13 | O18: 138 | P18: 288 | Q18: 2.087 | R18: 5.377 | S18: 255
B19: Lower Threshold | C19: 0 | G19: 13 | H19: 5.377 | J19: 22 | K19: 2.08 | N19: 14 | O19: 130 | P19: 302 | Q19: 2.323 | R19: 5.639 | S19: 255
B20: Upper Threshold | C20: 113 | G20: 14 | H20: 5.639 | J20: 23 | K20: 2.074 | N20: 15 | O20: 126 | P20: 430 | Q20: 3.413 | R20: 8.028 | S20: 255
G21: 15 | H21: 8.028 | J21: 24 | K21: 2.069 | N21: 16 | O21: 133 | P21: 240 | Q21: 1.805 | R21: 4.481 | S21: 255
G22: 16 | H22: 4.481 | J22: 25 | K22: 2.064 | N22: 17 | O22: 151 | P22: 259 | Q22: 1.715 | R22: 4.836 | S22: 255
G23: 17 | H23: 4.836 | J23: 26 | K23: 2.06 | N23: 18 | O23: 127 | P23: 301 | Q23: 2.37 | R23: 5.62 | S23: 255
G24: 18 | H24: 5.62 | J24: 27 | K24: 2.056 | N24: 19 | O24: 156 | P24: 388 | Q24: 2.487 | R24: 7.244 | S24: 255
G25: 19 | H25: 7.244 | J25: 28 | K25: 2.052 | N25: 20 | O25: 136 | P25: 324 | Q25: 2.382 | R25: 6.049 | S25: 255
G26: 20 | H26: 6.049 | J26: 29 | K26: 2.048 | N26: 21 | O26: 155 | P26: 303 | Q26: 1.955 | R26: 5.657 | S26: 255
G27: 21 | H27: 5.657 | J27: 30 | K27: 2.045 | N27: 22 | O27: 145 | P27: 324 | Q27: 2.234 | R27: 6.049 | S27: 255
G28: 22 | H28: 6.049 | J28: 40 | K28: 2.02 | N28: 23 | O28: 144 | P28: 313 | Q28: 2.174 | R28: 5.844 | S28: 255
G29: 23 | H29: 5.844 | J29: 60 | K29: 2 | N29: 24 | O29: 151 | P29: 376 | Q29: 2.49 | R29: 7.02 | S29: 255
G30: 24 | H30: 7.02 | N30: 25 | O30: 134 | P30: 390 | Q30: 2.91 | R30: 7.282 | S30: 255
G31: 25 | H31: 7.282 | N31: 1 | O31: 201 | P31: 445 | Q31: 2.214 | R31: 4.482 | S31: 255
G32: 26 | H32: 4.482 | N32: 2 | O32: 212 | P32: 458 | Q32: 2.16 | R32: 4.613 | S32: 255
G33: 27 | H33: 4.613 | N33: 3 | O33: 253 | P33: 584 | Q33: 2.308 | R33: 5.882 | S33: 255
G34: 28 | H34: 5.882 | N34: 4 | O34: 269 | P34: 598 | Q34: 2.223 | R34: 6.023 | S34: 255
G35: 29 | H35: 6.023 | N35: 5 | O35: 264 | P35: 617 | Q35: 2.337 | R35: 6.215 | S35: 255
G36: 30 | H36: 6.215 | N36: 6 | O36: 208 | P36: 456 | Q36: 2.192 | R36: 4.593 | S36: 255
G37: 31 | H37: 4.593 | N37: 7 | O37: 212 | P37: 479 | Q37: 2.259 | R37: 4.825 | S37: 255
G38: 32 | H38: 4.825 | N38: 8 | O38: 207 | P38: 413 | Q38: 1.995 | R38: 4.16 | S38: 255
G39: 33 | H39: 4.16 | N39: 9 | O39: 214 | P39: 546 | Q39: 2.551 | R39: 5.5 | S39: 255
G40: 34 | H40: 5.5 | N40: 10 | O40: 246 | P40: 595 | Q40: 2.419 | R40: 5.993 | S40: 255
G41: 35 | H41: 5.993 | N41: 11 | O41: 233 | P41: 619 | Q41: 2.657 | R41: 6.235 | S41: 255
... G65: 59 | H65: 6.003 | N65: 35 | O65: 234 | P65: 679 | Q65: 2.902 | R65: 6.839 | S65: 255
G66: 60 | H66: 6.839

Sheet APS_Al2O3_0100X
B1: Porosity Analysis of Thermal Spray Coatings
B2: Heriot-Watt University, Dubai Campus
B3: Porosity Analysis conducted using thresholding to isolate pores and voids, followd by a binary opening process to remove small features. Consult ASTM E2109 for more information.
B5: Specification Identification | C5: APS_Al2O3_0100X | G5: Index | H5: Porosity
B6: Operator | C6: Vishakh Kumar | G6: i | H6: x_i | J6: Number of Samples (n) | K6: =MAX(G7:G31) -> 25 | N6: 1 | O6: 177 | P6: 414 | Q6: 2.339 | R6: 11.275 | S6: 255
B7: Date | C7: =TODAY() -> 45321 | G7: 1 | H7: 11.275 | J7: Confidence Interval Multipiers (t) | K7: =VLOOKUP(K6,confidence_95_multiplier1220[#All],2,FALSE) -> 2.064 | N7: 2 | O7: 175 | P7: 396 | Q7: 2.263 | R7: 10.784 | S7: 255
G8: 2 | H8: 10.784 | J8: Mean (x_bar) | K8: =AVERAGE(porosity_readings1119[x_i]) -> 8.05776 | N8: 3 | O8: 155 | P8: 330 | Q8: 2.129 | R8: 8.987 | S8: 255
B9: Magnification Used | C9: 1000 | G9: 3 | H9: 8.987 | J9: Standard Deviation (S) | K9: =_xlfn.STDEV.S(porosity_readings1119[x_i]) -> 1.8767101 | N9: 4 | O9: 138 | P9: 279 | Q9: 2.022 | R9: 7.598 | S9: 255
B10: Mean area % porosity | C10: =APS_Al2O3_0100X!K8 -> 8.05776 | G10: 4 | H10: 7.598 | J10: 95% Confidence Interval (95% CI) | K10: =K9*K7/(SQRT(K6)) -> 0.77470593 | N10: 5 | O10: 108 | P10: 212 | Q10: 1.963 | R10: 5.773 | S10: 255
B11: Minimum area % porosity | C11: =APS_Al2O3_0100X!K12 -> 4.984 | G11: 5 | H11: 5.773 | J11: 95% Relative Accuracy (%RA) | K11: =K10/K8 -> 0.096144081 | N11: 6 | O11: 154 | P11: 355 | Q11: 2.305 | R11: 9.668 | S11: 255
B12: Maximum area % porosity | C12: =APS_Al2O3_0100X!K13 -> 11.765 | G12: 6 | H12: 9.668 | J12: Minimum (x_min) | K12: =MIN(porosity_readings1119[x_i]) -> 4.984 | N12: 7 | O12: 136 | P12: 308 | Q12: 2.265 | R12: 8.388 | S12: 255
B13: Standard Deviation | C13: =APS_Al2O3_0100X!K9 -> 1.8767101 | G13: 7 | H13: 8.388 | J13: Maximum (x_max) | K13: =MAX(porosity_readings1119[x_i]) -> 11.765 | N13: 8 | O13: 150 | P13: 344 | Q13: 2.293 | R13: 9.368 | S13: 255
B14: 95% confidence interval | C14: =APS_Al2O3_0100X!K10 -> 0.77470593 | G14: 8 | H14: 9.368 | N14: 9 | O14: 131 | P14: 235 | Q14: 1.794 | R14: 6.4 | S14: 255
B15: % Relative Accuracy value | C15: =APS_Al2O3_0100X!K11 -> 0.096144081 | G15: 9 | H15: 6.4 | J15: 95% Confidence Interval Multipliers, t | N15: 10 | O15: 112 | P15: 228 | Q15: 2.036 | R15: 6.209 | S15: 255
B16: Number of fields measured | C16: =APS_Al2O3_0100X!K6 -> 25 | G16: 10 | H16: 6.209 | J16: n | K16: t | N16: 11 | O16: 107 | P16: 245 | Q16: 2.29 | R16: 6.672 | S16: 255
G17: 11 | H17: 6.672 | J17: 20 | K17: 2.093 | N17: 12 | O17: 110 | P17: 243 | Q17: 2.209 | R17: 6.618 | S17: 255
B18: Gaussian Blur | C18: 0 | G18: 12 | H18: 6.618 | J18: 21 | K18: 2.086 | N18: 13 | O18: 120 | P18: 232 | Q18: 1.933 | R18: 6.318 | S18: 255
B19: Lower Threshold | C19: 0 | G19: 13 | H19: 6.318 | J19: 22 | K19: 2.08 | N19: 14 | O19: 114 | P19: 249 | Q19: 2.184 | R19: 6.781 | S19: 255
B20: Upper Threshold | C20: 80 | G20: 14 | H20: 6.781 | J20: 23 | K20: 2.074 | N20: 15 | O20: 136 | P20: 306 | Q20: 2.25 | R20: 8.333 | S20: 255
G21: 15 | H21: 8.333 | J21: 24 | K21: 2.069 | N21: 16 | O21: 173 | P21: 431 | Q21: 2.491 | R21: 11.737 | S21: 255
G22: 16 | H22: 11.737 | J22: 25 | K22: 2.064 | N22: 17 | O22: 154 | P22: 320 | Q22: 2.078 | R22: 8.715 | S22: 255
G23: 17 | H23: 8.715 | J23: 26 | K23: 2.06 | N23: 18 | O23: 131 | P23: 279 | Q23: 2.13 | R23: 7.598 | S23: 255
G24: 18 | H24: 7.598 | J24: 27 | K24: 2.056 | N24: 19 | O24: 96 | P24: 183 | Q24: 1.906 | R24: 4.984 | S24: 255
G25: 19 | H25: 4.984 | J25: 28 | K25: 2.052 | N25: 20 | O25: 122 | P25: 283 | Q25: 2.32 | R25: 7.707 | S25: 255
G26: 20 | H26: 7.707 | J26: 29 | K26: 2.048 | N26: 21 | O26: 160 | P26: 312 | Q26: 1.95 | R26: 8.497 | S26: 255
G27: 21 | H27: 8.497 | J27: 30 | K27: 2.045 | N27: 22 | O27: 134 | P27: 284 | Q27: 2.119 | R27: 7.734 | S27: 255
G28: 22 | H28: 7.734 | J28: 40 | K28: 2.02 | N28: 23 | O28: 170 | P28: 432 | Q28: 2.541 | R28: 11.765 | S28: 255
G29: 23 | H29: 11.765 | J29: 60 | K29: 2 | N29: 24 | O29: 130 | P29: 252 | Q29: 1.938 | R29: 6.863 | S29: 255
G30: 24 | H30: 6.863 | N30: 25 | O30: 124 | P30: 245 | Q30: 1.976 | R30: 6.672 | S30: 255
G31: 25 | H31: 6.672

Sheet APS_Al2O3_0250X
B1: Porosity Analysis of Thermal Spray Coatings
B2: Heriot-Watt University, Dubai Campus
B3: Porosity Analysis conducted using thresholding to isolate pores and voids, followd by a binary opening process to remove small features. Consult ASTM E2109 for more information.
B5: Specification Identification | C5: APS_Al2O3_0250X | G5: Index | H5: Porosity
B6: Operator | C6: Vishakh Kumar | G6: i | H6: x_i | J6: Number of Samples (n) | K6: =MAX(G7:G46) -> 40 | N6: 1 | O6: 30 | P6: 3599 | Q6: 119.967 | R6: 12.784 | S6: 255
B7: Date | C7: =TODAY() -> 45321 | G7: 1 | H7: 4.96 | J7: Confidence Interval Multipiers (t) | K7: =VLOOKUP(K6,confidence_95_multiplier12[#All],2,FALSE) -> 2.02 | N7: 2 | O7: 23 | P7: 3271 | Q7: 142.217 | R7: 11.619 | S7: 255
G8: 2 | H8: 5.691 | J8: Mean (x_bar) | K8: =AVERAGE(porosity_readings11[x_i]) -> 8.53085 | N8: 3 | O8: 27 | P8: 2634 | Q8: 97.556 | R8: 9.356 | S8: 255
B9: Magnification Used | C9: 1000 | G9: 3 | H9: 5.783 | J9: Standard Deviation (S) | K9: =_xlfn.STDEV.S(porosity_readings11[x_i]) -> 1.2603921 | N9: 4 | O9: 22 | P9: 2232 | Q9: 101.455 | R9: 7.928 | S9: 255
B10: Mean area % porosity | C10: =APS_Al2O3_0250X!K8 -> 8.53085 | G10: 4 | H10: 6.298 | J10: 95% Confidence Interval (95% CI) | K10: =K9*K7/(SQRT(K6)) -> 0.40255669 | N10: 5 | O10: 21 | P10: 2622 | Q10: 124.857 | R10: 9.314 | S10: 255
B11: Minimum area % porosity | C11: =APS_Al2O3_0250X!K12 -> 4.96 | G11: 5 | H11: 6.53 | J11: 95% Relative Accuracy (%RA) | K11: =K10/K8 -> 0.047188345 | N11: 6 | O11: 22 | P11: 1547 | Q11: 70.318 | R11: 5.495 | S11: 255
B12: Maximum area % porosity | C12: =APS_Al2O3_0250X!K13 -> 10.222 | G12: 6 | H12: 7.096 | J12: Minimum (x_min) | K12: =MIN(porosity_readings11[x_i]) -> 4.96 | N12: 7 | O12: 19 | P12: 2161 | Q12: 113.737 | R12: 7.676 | S12: 255
B13: Standard Deviation | C13: =APS_Al2O3_0250X!K9 -> 1.2603921 | G13: 7 | H13: 7.216 | J13: Maximum (x_max) | K13: =MAX(porosity_readings11[x_i]) -> 10.222 | N13: 8 | O13: 28 | P13: 3146 | Q13: 112.357 | R13: 11.175 | S13: 255
B14: 95% confidence interval | C14: =APS_Al2O3_0250X!K10 -> 0.40255669 | G14: 8 | H14: 7.91 | N14: 9 | O14: 33 | P14: 4009 | Q14: 121.485 | R14: 14.241 | S14: 255
B15: % Relative Accuracy value | C15: =APS_Al2O3_0250X!K11 -> 0.047188345 | G15: 9 | H15: 7.923 | J15: 95% Confidence Interval Multipliers, t | N15: 10 | O15: 19 | P15: 3396 | Q15: 178.737 | R15: 12.063 | S15: 255
B16: Number of fields measured | C16: =APS_Al2O3_0250X!K6 -> 40 | G16: 10 | H16: 8.234 | J16: n | K16: t | N16: 11 | O16: 26 | P16: 3909 | Q16: 150.346 | R16: 13.885 | S16: 255
G17: 11 | H17: 8.285 | J17: 20 | K17: 2.093 | N17: 12 | O17: 19 | P17: 2833 | Q17: 149.105 | R17: 10.063 | S17: 255
B18: Gaussian Blur | C18: 0 | G18: 12 | H18: 8.375 | J18: 21 | K18: 2.086 | N18: 13 | O18: 25 | P18: 3046 | Q18: 121.84 | R18: 10.82 | S18: 255
B19: Lower Threshold | C19: 0 | G19: 13 | H19: 8.39 | J19: 22 | K19: 2.08 | N19: 14 | O19: 21 | P19: 1520 | Q19: 72.381 | R19: 5.399 | S19: 255
B20: Upper Threshold | C20: 78 | G20: 14 | H20: 8.4 | J20: 23 | K20: 2.074 | N20: 15 | O20: 32 | P20: 2982 | Q20: 93.188 | R20: 10.592 | S20: 255
G21: 15 | H21: 8.478 | J21: 24 | K21: 2.069 | N21: 16 | O21: 21 | P21: 2574 | Q21: 122.571 | R21: 9.143 | S21: 255
G22: 16 | H22: 8.55 | J22: 25 | K22: 2.064 | N22: 17 | O22: 20 | P22: 2207 | Q22: 110.35 | R22: 7.84 | S22: 255
G23: 17 | H23: 8.566 | J23: 26 | K23: 2.06 | N23: 18 | O23: 24 | P23: 2989 | Q23: 124.542 | R23: 10.617 | S23: 255
G24: 18 | H24: 8.674 | J24: 27 | K24: 2.056 | N24: 19 | O24: 22 | P24: 1780 | Q24: 80.909 | R24: 6.323 | S24: 255
G25: 19 | H25: 8.679 | J25: 28 | K25: 2.052 | N25: 20 | O25: 26 | P25: 4521 | Q25: 173.885 | R25: 16.059 | S25: 255
G26: 20 | H26: 8.765 | J26: 29 | K26: 2.048 | N26: 21 | O26: 31 | P26: 2920 | Q26: 94.194 | R26: 10.372 | S26: 255
G27: 21 | H27: 8.765 | J27: 30 | K27: 2.045 | N27: 22 | O27: 19 | P27: 2171 | Q27: 114.263 | R27: 7.712 | S27: 255
G28: 22 | H28: 8.84 | J28: 40 | K28: 2.02 | N28: 23 | O28: 36 | P28: 2438 | Q28: 67.722 | R28: 8.66 | S28: 255
G29: 23 | H29: 8.864 | J29: 60 | K29: 2 | N29: 24 | O29: 28 | P29: 1846 | Q29: 65.929 | R29: 6.557 | S29: 255
G30: 24 | H30: 8.907 | N30: 25 | O30: 26 | P30: 2683 | Q30: 103.192 | R30: 9.53 | S30: 255
G31: 25 | H31: 8.96 | N31: 1 | O31: 30 | P31: 3599 | Q31: 119.967 | R31: 12.784 | S31: 255
G32: 26 | H32: 8.998 | N32: 2 | O32: 23 | P32: 3271 | Q32: 142.217 | R32: 11.619 | S32: 255
G33: 27 | H33: 9.129 | N33: 3 | O33: 27 | P33: 2634 | Q33: 97.556 | R33: 9.356 | S33: 255
G34: 28 | H34: 9.222 | N34: 4 | O34: 22 | P34: 2232 | Q34: 101.455 | R34: 7.928 | S34: 255
G35: 29 | H35: 9.298 | N35: 5 | O35: 21 | P35: 2622 | Q35: 124.857 | R35: 9.314 | S35: 255
G36: 30 | H36: 9.346 | N36: 6 | O36: 22 | P36: 1547 | Q36: 70.318 | R36: 5.495 | S36: 255
G37: 31 | H37: 9.434 | N37: 7 | O37: 19 | P37: 2161 | Q37: 113.737 | R37: 7.676 | S37: 255
G38: 32 | H38: 9.58 | N38: 8 | O38: 28 | P38: 3146 | Q38: 112.357 | R38: 11.175 | S38: 255
G39: 33 | H39: 9.635 | N39: 9 | O39: 33 | P39: 4009 | Q39: 121.485 | R39: 14.241 | S39: 255
G40: 34 | H40: 9.737 | N40: 10 | O40: 19 | P40: 3396 | Q40: 178.737 | R40: 12.063 | S40: 255
G41: 35 | H41: 9.787 | N41: 11 | O41: 26 | P41: 3909 | Q41: 150.346 | R41: 13.885 | S41: 255
... G46: 40 | H46: 10.222 | N46: 16 | O46: 21 | P46: 2574 | Q46: 122.571 | R46: 9.143 | S46: 255
N47: 17 | O47: 20 | P47: 2207 | Q47: 110.35 | R47: 7.84 | S47: 255
N48: 18 | O48: 24 | P48: 2989 | Q48: 124.542 | R48: 10.617 | S48: 255
N49: 19 | O49: 22 | P49: 1780 | Q49: 80.909 | R49: 6.323 | S49: 255
N50: 20 | O50: 26 | P50: 4521 | Q50: 173.885 | R50: 16.059 | S50: 255
N51: 21 | O51: 31 | P51: 2920 | Q51: 94.194 | R51: 10.372 | S51: 255
N52: 22 | O52: 19 | P52: 2171 | Q52: 114.263 | R52: 7.712 | S52: 255
N53: 23 | O53: 36 | P53: 2438 | Q53: 67.722 | R53: 8.66 | S53: 255
N54: 24 | O54: 28 | P54: 1846 | Q54: 65.929 | R54: 6.557 | S54: 255
N55: 25 | O55: 26 | P55: 2683 | Q55: 103.192 | R55: 9.53 | S55: 255

Sheet APS_Al2O3_1000X
B1: Porosity Analysis of Thermal Spray Coatings
B2: Heriot-Watt University, Dubai Campus
B3: Porosity Analysis conducted using thresholding to isolate pores and voids, followd by a binary opening process to remove small features. Consult ASTM E2109 for more information.
B5: Specification Identification | C5: APS_Al2O3_1000X | G5: Index | H5: Porosity
B6: Operator | C6: Vishakh Kumar | G6: i | H6: x_i | J6: Number of Samples (n) | K6: =MAX(G7:G31) -> 25 | N6: 1 | O6: 50 | P6: 1539 | Q6: 30.78 | R6: 9.55 | S6: 255
B7: Date | C7: =TODAY() -> 45321 | G7: 1 | H7: 2.78 | J7: Confidence Interval Multipiers (t) | K7: =VLOOKUP(K6,confidence_95_multiplier[#All],2,FALSE) -> 2.064 | N7: 2 | O7: 53 | P7: 1865 | Q7: 35.189 | R7: 11.572 | S7: 255
G8: 2 | H8: 3.673 | J8: Mean (x_bar) | K8: =AVERAGE(porosity_readings[x_i]) -> 8.45868 | N8: 3 | O8: 46 | P8: 1426 | Q8: 31 | R8: 8.848 | S8: 255
B9: Magnification Used | C9: 1000 | G9: 3 | H9: 4.747 | J9: Standard Deviation (S) | K9: =_xlfn.STDEV.S(porosity_readings[x_i]) -> 4.226242 | N9: 4 | O9: 46 | P9: 2325 | Q9: 50.543 | R9: 14.427 | S9: 255
B10: Mean area % porosity | C10: =APS_Al2O3_1000X!K8 -> 8.45868 | G10: 4 | H10: 4.828 | J10: 95% Confidence Interval (95% CI) | K10: =K9*K7/(SQRT(K6)) -> 1.7445927 | N10: 5 | O10: 51 | P10: 1794 | Q10: 35.176 | R10: 11.132 | S10: 255
B11: Minimum area % porosity | C11: =APS_Al2O3_1000X!K12 -> 2.78 | G11: 5 | H11: 5.007 | J11: 95% Relative Accuracy (%RA) | K11: =K10/K8 -> 0.20624881 | N11: 6 | O11: 43 | P11: 448 | Q11: 10.419 | R11: 2.78 | S11: 255
B12: Maximum area % porosity | C12: =APS_Al2O3_1000X!K13 -> 19.937 | G12: 6 | H12: 5.156 | J12: Minimum (x_min) | K12: =MIN(porosity_readings[x_i]) -> 2.78 | N12: 7 | O12: 55 | P12: 1081 | Q12: 19.655 | R12: 6.708 | S12: 255
B13: Standard Deviation | C13: =APS_Al2O3_1000X!K9 -> 4.226242 | G13: 7 | H13: 5.715 | J13: Maximum (x_max) | K13: =MAX(porosity_readings[x_i]) -> 19.937 | N13: 8 | O13: 33 | P13: 959 | Q13: 29.061 | R13: 5.951 | S13: 255
B14: 95% confidence interval | C14: =APS_Al2O3_1000X!K10 -> 1.7445927 | G14: 8 | H14: 5.715 | N14: 9 | O14: 57 | P14: 778 | Q14: 13.649 | R14: 4.828 | S14: 255
B15: % Relative Accuracy value | C15: =APS_Al2O3_1000X!K11 -> 0.20624881 | G15: 9 | H15: 5.944 | J15: 95% Confidence Interval Multipliers, t | N15: 10 | O15: 56 | P15: 1040 | Q15: 18.571 | R15: 6.453 | S15: 255
B16: Number of fields measured | C16: =APS_Al2O3_1000X!K6 -> 25 | G16: 10 | H16: 5.951 | J16: n | K16: t | N16: 11 | O16: 38 | P16: 2240 | Q16: 58.947 | R16: 13.899 | S16: 255
G17: 11 | H17: 6.162 | J17: 20 | K17: 2.093 | N17: 12 | O17: 54 | P17: 831 | Q17: 15.389 | R17: 5.156 | S17: 255
B18: Gaussian Blur | C18: 0 | G18: 12 | H18: 6.453 | J18: 21 | K18: 2.086 | N18: 13 | O18: 44 | P18: 1504 | Q18: 34.182 | R18: 9.332 | S18: 255
B19: Lower Threshold | C19: 0 | G19: 13 | H19: 6.708 | J19: 22 | K19: 2.08 | N19: 14 | O19: 52 | P19: 921 | Q19: 17.712 | R19: 5.715 | S19: 255
B20: Upper Threshold | C20: 80 | G20: 14 | H20: 7.762 | J20: 23 | K20: 2.074 | N20: 15 | O20: 48 | P20: 1885 | Q20: 39.271 | R20: 11.696 | S20: 255
G21: 15 | H21: 8.476 | J21: 24 | K21: 2.069 | N21: 16 | O21: 44 | P21: 993 | Q21: 22.568 | R21: 6.162 | S21: 255
G22: 16 | H22: 8.848 | J22: 25 | K22: 2.064 | N22: 17 | O22: 55 | P22: 921 | Q22: 16.745 | R22: 5.715 | S22: 255
G23: 17 | H23: 9.332 | J23: 26 | K23: 2.06 | N23: 18 | O23: 44 | P23: 765 | Q23: 17.386 | R23: 4.747 | S23: 255
G24: 18 | H24: 9.55 | J24: 27 | K24: 2.056 | N24: 19 | O24: 44 | P24: 1366 | Q24: 31.045 | R24: 8.476 | S24: 255
G25: 19 | H25: 11.132 | J25: 28 | K25: 2.052 | N25: 20 | O25: 59 | P25: 592 | Q25: 10.034 | R25: 3.673 | S25: 255
G26: 20 | H26: 11.572 | J26: 29 | K26: 2.048 | N26: 21 | O26: 30 | P26: 2578 | Q26: 85.933 | R26: 15.997 | S26: 255
G27: 21 | H27: 11.696 | J27: 30 | K27: 2.045 | N27: 22 | O27: 32 | P27: 1251 | Q27: 39.094 | R27: 7.762 | S27: 255
G28: 22 | H28: 13.899 | J28: 40 | K28: 2.02 | N28: 23 | O28: 44 | P28: 807 | Q28: 18.341 | R28: 5.007 | S28: 255
G29: 23 | H29: 14.427 | J29: 60 | K29: 2 | N29: 24 | O29: 37 | P29: 958 | Q29: 25.892 | R29: 5.944 | S29: 255
G30: 24 | H30: 15.997 | N30: 25 | O30: 25 | P30: 3213 | Q30: 128.52 | R30: 19.937 | S30: 255
G31: 25 | H31: 19.937

Sheet HIP_APS_Al2O3_0250X
B1: Porosity Analysis of Thermal Spray Coatings
B2: Heriot-Watt University, Dubai Campus
B3: Porosity Analysis conducted using thresholding to isolate pores and voids, followd by a binary opening process to remove small features. Consult ASTM E2109 for more information.
B5: Specification Identification | C5: HIP_APS_Al2O3_0250X | G5: Index | H5: Porosity
B6: Operator | C6: Vishakh Kumar | G6: i | H6: x_i | J6: Number of Samples (n) | K6: =MAX(G7:G31) -> 25 | N6: 1 | O6: 80 | P6: 318 | Q6: 3.975 | R6: 8.66 | S6: 255
B7: Date | C7: =TODAY() -> 45321 | G7: 1 | H7: 8.66 | J7: Confidence Interval Multipiers (t) | K7: =VLOOKUP(K6,confidence_95_multiplier1218[#All],2,FALSE) -> 2.064 | N7: 2 | O7: 90 | P7: 596 | Q7: 6.622 | R7: 16.231 | S7: 255
G8: 2 | H8: 16.231 | J8: Mean (x_bar) | K8: =AVERAGE(porosity_readings1117[x_i]) -> 10.25924 | N8: 3 | O8: 61 | P8: 331 | Q8: 5.426 | R8: 9.014 | S8: 255
B9: Magnification Used | C9: 1000 | G9: 3 | H9: 9.014 | J9: Standard Deviation (S) | K9: =_xlfn.STDEV.S(porosity_readings1117[x_i]) -> 2.2954313 | N9: 4 | O9: 73 | P9: 350 | Q9: 4.795 | R9: 9.532 | S9: 255
B10: Mean area % porosity | C10: =HIP_APS_Al2O3_0250X!K8 -> 10.25924 | G10: 4 | H10: 9.532 | J10: 95% Confidence Interval (95% CI) | K10: =K9*K7/(SQRT(K6)) -> 0.94755403 | N10: 5 | O10: 82 | P10: 373 | Q10: 4.549 | R10: 10.158 | S10: 255
B11: Minimum area % porosity | C11: =HIP_APS_Al2O3_0250X!K12 -> 5.61 | G11: 5 | H11: 10.158 | J11: 95% Relative Accuracy (%RA) | K11: =K10/K8 -> 0.092361035 | N11: 6 | O11: 98 | P11: 438 | Q11: 4.469 | R11: 11.928 | S11: 255
B12: Maximum area % porosity | C12: =HIP_APS_Al2O3_0250X!K13 -> 16.231 | G12: 6 | H12: 11.928 | J12: Minimum (x_min) | K12: =MIN(porosity_readings1117[x_i]) -> 5.61 | N12: 7 | O12: 76 | P12: 414 | Q12: 5.447 | R12: 11.275 | S12: 255
B13: Standard Deviation | C13: =HIP_APS_Al2O3_0250X!K9 -> 2.2954313 | G13: 7 | H13: 11.275 | J13: Maximum (x_max) | K13: =MAX(porosity_readings1117[x_i]) -> 16.231 | N13: 8 | O13: 105 | P13: 233 | Q13: 2.219 | R13: 6.345 | S13: 255
B14: 95% confidence interval | C14: =HIP_APS_Al2O3_0250X!K10 -> 0.94755403 | G14: 8 | H14: 6.345 | N14: 9 | O14: 75 | P14: 402 | Q14: 5.36 | R14: 10.948 | S14: 255
B15: % Relative Accuracy value | C15: =HIP_APS_Al2O3_0250X!K11 -> 0.092361035 | G15: 9 | H15: 10.948 | J15: 95% Confidence Interval Multipliers, t | N15: 10 | O15: 79 | P15: 377 | Q15: 4.772 | R15: 10.267 | S15: 255
B16: Number of fields measured | C16: =HIP_APS_Al2O3_0250X!K6 -> 25 | G16: 10 | H16: 10.267 | J16: n | K16: t | N16: 11 | O16: 77 | P16: 206 | Q16: 2.675 | R16: 5.61 | S16: 255
G17: 11 | H17: 5.61 | J17: 20 | K17: 2.093 | N17: 12 | O17: 90 | P17: 454 | Q17: 5.044 | R17: 12.364 | S17: 255
B18: Gaussian Blur | C18: 0 | G18: 12 | H18: 12.364 | J18: 21 | K18: 2.086 | N18: 13 | O18: 79 | P18: 319 | Q18: 4.038 | R18: 8.687 | S18: 255
B19: Lower Threshold | C19: 0 | G19: 13 | H19: 8.687 | J19: 22 | K19: 2.08 | N19: 14 | O19: 70 | P19: 383 | Q19: 5.471 | R19: 10.43 | S19: 255
B20: Upper Threshold | C20: 78 | G20: 14 | H20: 10.43 | J20: 23 | K20: 2.074 | N20: 15 | O20: 90 | P20: 485 | Q20: 5.389 | R20: 13.208 | S20: 255
G21: 15 | H21: 13.208 | J21: 24 | K21: 2.069 | N21: 16 | O21: 67 | P21: 395 | Q21: 5.896 | R21: 10.757 | S21: 255
G22: 16 | H22: 10.757 | J22: 25 | K22: 2.064 | N22: 17 | O22: 103 | P22: 404 | Q22: 3.922 | R22: 11.002 | S22: 255
G23: 17 | H23: 11.002 | J23: 26 | K23: 2.06 | N23: 18 | O23: 99 | P23: 260 | Q23: 2.626 | R23: 7.081 | S23: 255
G24: 18 | H24: 7.081 | J24: 27 | K24: 2.056 | N24: 19 | O24: 83 | P24: 319 | Q24: 3.843 | R24: 8.687 | S24: 255
G25: 19 | H25: 8.687 | J25: 28 | K25: 2.052 | N25: 20 | O25: 104 | P25: 318 | Q25: 3.058 | R25: 8.66 | S25: 255
G26: 20 | H26: 8.66 | J26: 29 | K26: 2.048 | N26: 21 | O26: 93 | P26: 462 | Q26: 4.968 | R26: 12.582 | S26: 255
G27: 21 | H27: 12.582 | J27: 30 | K27: 2.045 | N27: 22 | O27: 78 | P27: 478 | Q27: 6.128 | R27: 13.017 | S27: 255
G28: 22 | H28: 13.017 | J28: 40 | K28: 2.02 | N28: 23 | O28: 108 | P28: 379 | Q28: 3.509 | R28: 10.321 | S28: 255
G29: 23 | H29: 10.321 | J29: 60 | K29: 2 | N29: 24 | O29: 81 | P29: 367 | Q29: 4.531 | R29: 9.995 | S29: 255
G30: 24 | H30: 9.995 | N30: 25 | O30: 83 | P30: 357 | Q30: 4.301 | R30: 9.722 | S30: 255
G31: 25 | H31: 9.722

Sheet HIP_APS_Al2O3_1000X
B1: Porosity Analysis of Thermal Spray Coatings
B2: Heriot-Watt University, Dubai Campus
B3: Porosity Analysis conducted using thresholding to isolate pores and voids, followd by a binary opening process to remove small features. Consult ASTM E2109 for more information.
B5: Specification Identification | C5: HIP_APS_Al2O3_1000X | G5: Index | H5: Porosity
B6: Operator | C6: Vishakh Kumar | G6: i | H6: x_i | J6: Number of Samples (n) | K6: =MAX(G7:G31) -> 25 | N6: 1 | O6: 38 | P6: 599 | Q6: 15.763 | R6: 4.588 | S6: 255
B7: Date | C7: =TODAY() -> 45321 | G7: 1 | H7: 4.588 | J7: Confidence Interval Multipiers (t) | K7: =VLOOKUP(K6,confidence_95_multiplier121416[#All],2,FALSE) -> 2.064 | N7: 2 | O7: 57 | P7: 1637 | Q7: 28.719 | R7: 12.538 | S7: 255
G8: 2 | H8: 12.538 | J8: Mean (x_bar) | K8: =AVERAGE(porosity_readings111315[x_i]) -> 9.79356 | N8: 3 | O8: 39 | P8: 803 | Q8: 20.59 | R8: 6.15 | S8: 255
B9: Magnification Used | C9: 1000 | G9: 3 | H9: 6.15 | J9: Standard Deviation (S) | K9: =_xlfn.STDEV.S(porosity_readings111315[x_i]) -> 4.3804336 | N9: 4 | O9: 75 | P9: 1048 | Q9: 13.973 | R9: 8.027 | S9: 255
B10: Mean area % porosity | C10: =HIP_APS_Al2O3_1000X!K8 -> 9.79356 | G10: 4 | H10: 8.027 | J10: 95% Confidence Interval (95% CI) | K10: =K9*K7/(SQRT(K6)) -> 1.808243 | N10: 5 | O10: 91 | P10: 1093 | Q10: 12.011 | R10: 8.372 | S10: 255
B11: Minimum area % porosity | C11: =HIP_APS_Al2O3_1000X!K12 -> 4.588 | G11: 5 | H11: 8.372 | J11: 95% Relative Accuracy (%RA) | K11: =K10/K8 -> 0.18463592 | N11: 6 | O11: 63 | P11: 2216 | Q11: 35.175 | R11: 16.973 | S11: 255
B12: Maximum area % porosity | C12: =HIP_APS_Al2O3_1000X!K13 -> 22.672 | G12: 6 | H12: 16.973 | J12: Minimum (x_min) | K12: =MIN(porosity_readings111315[x_i]) -> 4.588 | N12: 7 | O12: 65 | P12: 621 | Q12: 9.554 | R12: 4.756 | S12: 255
B13: Standard Deviation | C13: =HIP_APS_Al2O3_1000X!K9 -> 4.3804336 | G13: 7 | H13: 4.756 | J13: Maximum (x_max) | K13: =MAX(porosity_readings111315[x_i]) -> 22.672 | N13: 8 | O13: 50 | P13: 1745 | Q13: 34.9 | R13: 13.366 | S13: 255
B14: 95% confidence interval | C14: =HIP_APS_Al2O3_1000X!K10 -> 1.808243 | G14: 8 | H14: 13.366 | N14: 9 | O14: 82 | P14: 861 | Q14: 10.5 | R14: 6.595 | S14: 255
B15: % Relative Accuracy value | C15: =HIP_APS_Al2O3_1000X!K11 -> 0.18463592 | G15: 9 | H15: 6.595 | J15: 95% Confidence Interval Multipliers, t | N15: 10 | O15: 54 | P15: 1410 | Q15: 26.111 | R15: 10.8 | S15: 255
B16: Number of fields measured | C16: =HIP_APS_Al2O3_1000X!K6 -> 25 | G16: 10 | H16: 10.8 | J16: n | K16: t | N16: 11 | O16: 66 | P16: 1083 | Q16: 16.409 | R16: 8.295 | S16: 255
G17: 11 | H17: 8.295 | J17: 20 | K17: 2.093 | N17: 12 | O17: 70 | P17: 1210 | Q17: 17.286 | R17: 9.268 | S17: 255
B18: Gaussian Blur | C18: 0 | G18: 12 | H18: 9.268 | J18: 21 | K18: 2.086 | N18: 13 | O18: 58 | P18: 873 | Q18: 15.052 | R18: 6.687 | S18: 255
B19: Lower Threshold | C19: 0 | G19: 13 | H19: 6.687 | J19: 22 | K19: 2.08 | N19: 14 | O19: 65 | P19: 1161 | Q19: 17.862 | R19: 8.892 | S19: 255
B20: Upper Threshold | C20: 86 | G20: 14 | H20: 8.892 | J20: 23 | K20: 2.074 | N20: 15 | O20: 50 | P20: 1582 | Q20: 31.64 | R20: 12.117 | S20: 255
B21: Binary Open | G21: 15 | H21: 12.117 | J21: 24 | K21: 2.069 | N21: 16 | O21: 67 | P21: 975 | Q21: 14.552 | R21: 7.468 | S21: 255
G22: 16 | H22: 7.468 | J22: 25 | K22: 2.064 | N22: 17 | O22: 55 | P22: 993 | Q22: 18.055 | R22: 7.606 | S22: 255
G23: 17 | H23: 7.606 | J23: 26 | K23: 2.06 | N23: 18 | O23: 55 | P23: 1030 | Q23: 18.727 | R23: 7.889 | S23: 255
G24: 18 | H24: 7.889 | J24: 27 | K24: 2.056 | N24: 19 | O24: 76 | P24: 1478 | Q24: 19.447 | R24: 11.32 | S24: 255
G25: 19 | H25: 11.32 | J25: 28 | K25: 2.052 | N25: 20 | O25: 108 | P25: 872 | Q25: 8.074 | R25: 6.679 | S25: 255
G26: 20 | H26: 6.679 | J26: 29 | K26: 2.048 | N26: 21 | O26: 46 | P26: 2498 | Q26: 54.304 | R26: 19.133 | S26: 255
G27: 21 | H27: 19.133 | J27: 30 | K27: 2.045 | N27: 22 | O27: 43 | P27: 1207 | Q27: 28.07 | R27: 9.245 | S27: 255
G28: 22 | H28: 9.245 | J28: 40 | K28: 2.02 | N28: 23 | O28: 61 | P28: 967 | Q28: 15.852 | R28: 7.407 | S28: 255
G29: 23 | H29: 7.407 | J29: 60 | K29: 2 | N29: 24 | O29: 50 | P29: 1044 | Q29: 20.88 | R29: 7.996 | S29: 255
G30: 24 | H30: 7.996 | N30: 25 | O30: 25 | P30: 2960 | Q30: 118.4 | R30: 22.672 | S30: 255
G31: 25 | H31: 22.672

Sheet HIP_APS_Al2O3_1000X (with crack
B1: Porosity Analysis of Thermal Spray Coatings
B2: Heriot-Watt University, Dubai Campus
B3: Porosity Analysis conducted using thresholding to isolate pores and voids, followd by a binary opening process to remove small features. Consult ASTM E2109 for more information.
B5: Specification Identification | C5: HIP_APS_Al2O3_1000X | G5: Index | H5: Porosity
B6: Operator | C6: Vishakh Kumar | G6: i | H6: x_i | J6: Number of Samples (n) | K6: =MAX(G7:G31) -> 25 | N6: 1 | O6: 84 | P6: 2250 | Q6: 26.786 | R6: 12.976 | S6: 255
B7: Date | C7: =TODAY() -> 45321 | G7: 1 | H7: 12.976 | J7: Confidence Interval Multipiers (t) | K7: =VLOOKUP(K6,confidence_95_multiplier12141650[#All],2,FALSE) -> 2.064 | N7: 2 | O7: 57 | P7: 2551 | Q7: 44.754 | R7: 14.712 | S7: 255
G8: 2 | H8: 14.712 | J8: Mean (x_bar) | K8: =AVERAGE(porosity_readings11131549[x_i]) -> 11.11636 | N8: 3 | O8: 58 | P8: 3598 | Q8: 62.034 | R8: 20.75 | S8: 255
B9: Magnification Used | C9: 1000 | G9: 3 | H9: 20.75 | J9: Standard Deviation (S) | K9: =_xlfn.STDEV.S(porosity_readings11131549[x_i]) -> 4.6916669 | N9: 4 | O9: 65 | P9: 3394 | Q9: 52.215 | R9: 19.573 | S9: 255
B10: Mean area % porosity | C10: ='HIP_APS_Al2O3_1000X (with crack'!K8 -> 11.11636 | G10: 4 | H10: 19.573 | J10: 95% Confidence Interval (95% CI) | K10: =K9*K7/(SQRT(K6)) -> 1.9367201 | N10: 5 | O10: 106 | P10: 1331 | Q10: 12.557 | R10: 7.676 | S10: 255
B11: Minimum area % porosity | C11: ='HIP_APS_Al2O3_1000X (with crack'!K12 -> 5.283 | G11: 5 | H11: 7.676 | J11: 95% Relative Accuracy (%RA) | K11: =K10/K8 -> 0.17422251 | N11: 6 | O11: 58 | P11: 1036 | Q11: 17.862 | R11: 5.975 | S11: 255
B12: Maximum area % porosity | C12: ='HIP_APS_Al2O3_1000X (with crack'!K13 -> 20.75 | G12: 6 | H12: 5.975 | J12: Minimum (x_min) | K12: =MIN(porosity_readings11131549[x_i]) -> 5.283 | N12: 7 | O12: 71 | P12: 2259 | Q12: 31.817 | R12: 13.028 | S12: 255
B13: Standard Deviation | C13: ='HIP_APS_Al2O3_1000X (with crack'!K9 -> 4.6916669 | G13: 7 | H13: 13.028 | J13: Maximum (x_max) | K13: =MAX(porosity_readings11131549[x_i]) -> 20.75 | N13: 8 | O13: 63 | P13: 1070 | Q13: 16.984 | R13: 6.171 | S13: 255
B14: 95% confidence interval | C14: ='HIP_APS_Al2O3_1000X (with crack'!K10 -> 1.9367201 | G14: 8 | H14: 6.171 | N14: 9 | O14: 91 | P14: 1493 | Q14: 16.407 | R14: 8.61 | S14: 255
B15: % Relative Accuracy value | C15: ='HIP_APS_Al2O3_1000X (with crack'!K11 -> 0.17422251 | G15: 9 | H15: 8.61 | J15: 95% Confidence Interval Multipliers, t | N15: 10 | O15: 118 | P15: 2240 | Q15: 18.983 | R15: 12.918 | S15: 255
B16: Number of fields measured | C16: ='HIP_APS_Al2O3_1000X (with crack'!K6 -> 25 | G16: 10 | H16: 12.918 | J16: n | K16: t | N16: 11 | O16: 103 | P16: 2645 | Q16: 25.68 | R16: 15.254 | S16: 255
G17: 11 | H17: 15.254 | J17: 20 | K17: 2.093 | N17: 12 | O17: 86 | P17: 1066 | Q17: 12.395 | R17: 6.148 | S17: 255
B18: Gaussian Blur | C18: 0 | G18: 12 | H18: 6.148 | J18: 21 | K18: 2.086 | N18: 13 | O18: 59 | P18: 2120 | Q18: 35.932 | R18: 12.226 | S18: 255
B19: Lower Threshold | C19: 0 | G19: 13 | H19: 12.226 | J19: 22 | K19: 2.08 | N19: 14 | O19: 108 | P19: 1255 | Q19: 11.62 | R19: 7.238 | S19: 255
B20: Upper Threshold | C20: 86 | G20: 14 | H20: 7.238 | J20: 23 | K20: 2.074 | N20: 15 | O20: 64 | P20: 2642 | Q20: 41.281 | R20: 15.236 | S20: 255
B21: Binary Open | G21: 15 | H21: 15.236 | J21: 24 | K21: 2.069 | N21: 16 | O21: 63 | P21: 1353 | Q21: 21.476 | R21: 7.803 | S21: 255
G22: 16 | H22: 7.803 | J22: 25 | K22: 2.064 | N22: 17 | O22: 95 | P22: 1540 | Q22: 16.211 | R22: 8.881 | S22: 255
G23: 17 | H23: 8.881 | J23: 26 | K23: 2.06 | N23: 18 | O23: 92 | P23: 1314 | Q23: 14.283 | R23: 7.578 | S23: 255
G24: 18 | H24: 7.578 | J24: 27 | K24: 2.056 | N24: 19 | O24: 81 | P24: 1814 | Q24: 22.395 | R24: 10.461 | S24: 255
G25: 19 | H25: 10.461 | J25: 28 | K25: 2.052 | N25: 20 | O25: 116 | P25: 916 | Q25: 7.897 | R25: 5.283 | S25: 255
G26: 20 | H26: 5.283 | J26: 29 | K26: 2.048 | N26: 21 | O26: 76 | P26: 2872 | Q26: 37.789 | R26: 16.563 | S26: 255
G27: 21 | H27: 16.563 | J27: 30 | K27: 2.045 | N27: 22 | O27: 54 | P27: 1434 | Q27: 26.556 | R27: 8.27 | S27: 255
G28: 22 | H28: 8.27 | J28: 40 | K28: 2.02 | N28: 23 | O28: 69 | P28: 1166 | Q28: 16.899 | R28: 6.724 | S28: 255
G29: 23 | H29: 6.724 | J29: 60 | K29: 2 | N29: 24 | O29: 79 | P29: 1459 | Q29: 18.468 | R29: 8.414 | S29: 255
G30: 24 | H30: 8.414 | N30: 25 | O30: 52 | P30: 3371 | Q30: 64.827 | R30: 19.441 | S30: 255
G31: 25 | H31: 19.441
